BEGIN:VCALENDAR
VERSION:2.0
PRODID:-//Kambja Valla Sõnumid - ECPv6.15.20//NONSGML v1.0//EN
CALSCALE:GREGORIAN
METHOD:PUBLISH
X-ORIGINAL-URL:https://www.kambja.info
X-WR-CALDESC:Events for Kambja Valla Sõnumid
REFRESH-INTERVAL;VALUE=DURATION:PT1H
X-Robots-Tag:noindex
X-PUBLISHED-TTL:PT1H
BEGIN:VTIMEZONE
TZID:Europe/Helsinki
BEGIN:DAYLIGHT
TZOFFSETFROM:+0200
TZOFFSETTO:+0300
TZNAME:EEST
DTSTART:20170326T010000
END:DAYLIGHT
BEGIN:STANDARD
TZOFFSETFROM:+0300
TZOFFSETTO:+0200
TZNAME:EET
DTSTART:20171029T010000
END:STANDARD
BEGIN:DAYLIGHT
TZOFFSETFROM:+0200
TZOFFSETTO:+0300
TZNAME:EEST
DTSTART:20180325T010000
END:DAYLIGHT
BEGIN:STANDARD
TZOFFSETFROM:+0300
TZOFFSETTO:+0200
TZNAME:EET
DTSTART:20181028T010000
END:STANDARD
BEGIN:DAYLIGHT
TZOFFSETFROM:+0200
TZOFFSETTO:+0300
TZNAME:EEST
DTSTART:20190331T010000
END:DAYLIGHT
BEGIN:STANDARD
TZOFFSETFROM:+0300
TZOFFSETTO:+0200
TZNAME:EET
DTSTART:20191027T010000
END:STANDARD
END:VTIMEZONE
BEGIN:VTIMEZONE
TZID:Europe/Moscow
BEGIN:STANDARD
TZOFFSETFROM:+0300
TZOFFSETTO:+0300
TZNAME:MSK
DTSTART:20170101T000000
END:STANDARD
END:VTIMEZONE
BEGIN:VEVENT
DTSTART;TZID=Europe/Helsinki:20180329T190000
DTEND;TZID=Europe/Helsinki:20180329T235900
DTSTAMP:20260423T040555
CREATED:20180305T200149Z
LAST-MODIFIED:20180326T145004Z
UID:10007971-1522350000-1522367940@www.kambja.info
SUMMARY:Isetegevuslaste kontsert-üritus
DESCRIPTION:Õhtut juhib Aarne Pärn\, tantsuks ansambel Absoluut-Lühis. \nKohal Haava kõrts. \n 
URL:https://www.kambja.info/syndmus/isetegevuslaste-kontsert-uritus/
LOCATION:Kambja vald\, Tartumaa
CATEGORIES:Muusika
ATTACH;FMTTYPE=image/jpeg:https://www.kambja.info/wp-content/uploads/2018/03/426835_336074716436032_1535264053_n.jpg
END:VEVENT
BEGIN:VEVENT
DTSTART;TZID=Europe/Helsinki:20180325T120000
DTEND;TZID=Europe/Helsinki:20180325T150000
DTSTAMP:20260423T040555
CREATED:20180315T143818Z
LAST-MODIFIED:20180315T143818Z
UID:10007973-1521979200-1521990000@www.kambja.info
SUMMARY:Kevadine koosviibimine
DESCRIPTION:Külakosti pakuvad kirjanik Olavi Ruitlane\, lõõtspillimängija Raul Roosiväli ja kandlemees Kalle Vassila.
URL:https://www.kambja.info/syndmus/kevadine-koosviibimine/
LOCATION:Kuuste koolimaja\, Kooli tee 2\, Vana-Kuuste\, Kambja vald\, Tartumaa\, Eesti
CATEGORIES:Kirjandus,Kogukond,Muusika
ATTACH;FMTTYPE=image/jpeg:https://www.kambja.info/wp-content/uploads/2018/03/KEVADINEKOOSVIIBIMINe.jpg
ORGANIZER;CN="MT%C3%9C Vana-Kuuste Naisselts%C2%A0":MAILTO:edda.lints@kuuste.edu.ee
GEO:58.252917;26.78236
X-APPLE-STRUCTURED-LOCATION;VALUE=URI;X-ADDRESS=Kuuste koolimaja Kooli tee 2 Vana-Kuuste Kambja vald Tartumaa Eesti;X-APPLE-RADIUS=500;X-TITLE=Kooli tee 2:geo:26.78236,58.252917
END:VEVENT
BEGIN:VEVENT
DTSTART;TZID=Europe/Moscow:20180310T180000
DTEND;TZID=Europe/Moscow:20180311T020000
DTSTAMP:20260423T040555
CREATED:20180212T154709Z
LAST-MODIFIED:20180212T155357Z
UID:10007957-1520704800-1520733600@www.kambja.info
SUMMARY:Kuuste Naistepäev
DESCRIPTION:Kohvikstiilis tantsuõhtu ansambliga Eesti Gun ja Liisa. \nLisaksetendus Kuuste Näiteringilt ning mälumäng. \nAvatud teatrikohvik ning puhvet. \n  \nPääse eelmüügist (kuni 9.03.2018) 6 eurot\, kohapeal 8 eurot. \nEelmüük: Rebase A&O\,  Kuuste Auto ja tellimine telefonitsi 5657 3833.
URL:https://www.kambja.info/syndmus/kuuste-naistepaev/
LOCATION:Kuuste koolimaja\, Kooli tee 2\, Vana-Kuuste\, Kambja vald\, Tartumaa\, Eesti
CATEGORIES:Etendus,Muusika,Pidu
ATTACH;FMTTYPE=image/jpeg:https://www.kambja.info/wp-content/uploads/2018/02/27797350_274061103128729_1668187619470708202_o.jpg
GEO:58.252917;26.78236
X-APPLE-STRUCTURED-LOCATION;VALUE=URI;X-ADDRESS=Kuuste koolimaja Kooli tee 2 Vana-Kuuste Kambja vald Tartumaa Eesti;X-APPLE-RADIUS=500;X-TITLE=Kooli tee 2:geo:26.78236,58.252917
END:VEVENT
BEGIN:VEVENT
DTSTART;TZID=Europe/Moscow:20180224T150000
DTEND;TZID=Europe/Moscow:20180224T160000
DTSTAMP:20260423T040555
CREATED:20180213T174627Z
LAST-MODIFIED:20180213T180504Z
UID:10007960-1519484400-1519488000@www.kambja.info
SUMMARY:Eesti Vabariik 100 kontsert-aktus
DESCRIPTION:Antakse teenetemärk\nEsinevad maja taidlejad\nkohvilaud
URL:https://www.kambja.info/syndmus/eesti-vabariik-100-kontsert-aktus/
LOCATION:Kambja kultuurikeskus\, Kesk 12\, Kambja\, Kambja vald\, Tartumaa\, 62034
CATEGORIES:Muusika,Tähtpäev
ATTACH;FMTTYPE=image/png:https://www.kambja.info/wp-content/uploads/2018/02/eesti_vabariik_100_rgb.png
GEO:58.236067475094;26.70260166293
X-APPLE-STRUCTURED-LOCATION;VALUE=URI;X-ADDRESS=Kambja kultuurikeskus Kesk 12 Kambja Kambja vald Tartumaa 62034;X-APPLE-RADIUS=500;X-TITLE=Kesk 12:geo:26.70260166293,58.236067475094
END:VEVENT
BEGIN:VEVENT
DTSTART;TZID=Europe/Moscow:20180223T190000
DTEND;TZID=Europe/Moscow:20180224T010000
DTSTAMP:20260423T040555
CREATED:20180213T181926Z
LAST-MODIFIED:20180213T181926Z
UID:10007961-1519412400-1519434000@www.kambja.info
SUMMARY:EV 100 - Curly Strings & Kruiis
DESCRIPTION:Eesti Vabariik 100 – suurejooneline tähistamine \nKuulutatakse välja konkursi Ülenurme Aasta 2017 tulemused. \nEsinevad \n\nCurly Strings\nErvin Lillepea ansambel Kruiis\n\n  \nKohvik (sööki-jooki mitte kaasa võtta) \n  \n 
URL:https://www.kambja.info/syndmus/ev-100-curly-strings-kruiis/
LOCATION:Reola kultuurimaja\, Valge tee 1\, Uhti küla\, Kambja vald\, Tartumaa\, 61712
CATEGORIES:Muusika,Pidu,Tähtpäev
ATTACH;FMTTYPE=image/jpeg:https://www.kambja.info/wp-content/uploads/2018/02/curlystrings5.jpg
ORGANIZER;CN="Kontaktisik%3A Tauri Anni":MAILTO:kultuur@ylenurme.ee
GEO:58.285495;26.713672
X-APPLE-STRUCTURED-LOCATION;VALUE=URI;X-ADDRESS=Reola kultuurimaja Valge tee 1 Uhti küla Kambja vald Tartumaa 61712;X-APPLE-RADIUS=500;X-TITLE=Valge tee 1:geo:26.713672,58.285495
END:VEVENT
BEGIN:VEVENT
DTSTART;TZID=Europe/Moscow:20180215T180000
DTEND;TZID=Europe/Moscow:20180215T190000
DTSTAMP:20260423T040555
CREATED:20180213T163316Z
LAST-MODIFIED:20180213T203709Z
UID:10007958-1518717600-1518721200@www.kambja.info
SUMMARY:"Vahvad variatsioonid tšellole ja akordionile"
DESCRIPTION:Esinejateks on Eesti üks tunnustatumaid tšelliste Andreas Lend ning kõrgelt hinnatud akordionimängija Allan Jakobi. \nEsitamisele tulevad kaunid klassikalise muusika pärlid heliloojatelt Sibelius\, Tšaikovski\, Villa-Lobos jt. \nAndreas Lend ja Allan Jakobi alustasid koostööd sooviga esitada klassikalist repertuaari uue värvipaletiga. Akordioni ja tšello tämbrid sulanduvad lummavalt hästi kokku – kõlapilt on orkestraalne\, ent samas salongilik. Lend’i ja Jakobi pühendunud\, särav ning virtuoosne interpretetatsioon lausa kutsub kuulajat kaasa rändama nendega helide maailma. \nKontsert on vaba sissepääsuga!
URL:https://www.kambja.info/syndmus/vahvad-variatsioonid-tsellole-ja-akordionile/
LOCATION:Kambja kultuurikeskus\, Kesk 12\, Kambja\, Kambja vald\, Tartumaa\, 62034
CATEGORIES:Muusika
ATTACH;FMTTYPE=image/jpeg:https://www.kambja.info/wp-content/uploads/2018/02/vahvad-variatsioonid.jpg
GEO:58.236067475094;26.70260166293
X-APPLE-STRUCTURED-LOCATION;VALUE=URI;X-ADDRESS=Kambja kultuurikeskus Kesk 12 Kambja Kambja vald Tartumaa 62034;X-APPLE-RADIUS=500;X-TITLE=Kesk 12:geo:26.70260166293,58.236067475094
END:VEVENT
END:VCALENDAR