BEGIN:VCALENDAR
VERSION:2.0
PRODID:-//Kambja Valla Sõnumid - ECPv6.15.20//NONSGML v1.0//EN
CALSCALE:GREGORIAN
METHOD:PUBLISH
X-ORIGINAL-URL:https://www.kambja.info
X-WR-CALDESC:Events for Kambja Valla Sõnumid
REFRESH-INTERVAL;VALUE=DURATION:PT1H
X-Robots-Tag:noindex
X-PUBLISHED-TTL:PT1H
BEGIN:VTIMEZONE
TZID:Europe/Tallinn
BEGIN:DAYLIGHT
TZOFFSETFROM:+0200
TZOFFSETTO:+0300
TZNAME:EEST
DTSTART:20200329T010000
END:DAYLIGHT
BEGIN:STANDARD
TZOFFSETFROM:+0300
TZOFFSETTO:+0200
TZNAME:EET
DTSTART:20201025T010000
END:STANDARD
BEGIN:DAYLIGHT
TZOFFSETFROM:+0200
TZOFFSETTO:+0300
TZNAME:EEST
DTSTART:20210328T010000
END:DAYLIGHT
BEGIN:STANDARD
TZOFFSETFROM:+0300
TZOFFSETTO:+0200
TZNAME:EET
DTSTART:20211031T010000
END:STANDARD
BEGIN:DAYLIGHT
TZOFFSETFROM:+0200
TZOFFSETTO:+0300
TZNAME:EEST
DTSTART:20220327T010000
END:DAYLIGHT
BEGIN:STANDARD
TZOFFSETFROM:+0300
TZOFFSETTO:+0200
TZNAME:EET
DTSTART:20221030T010000
END:STANDARD
END:VTIMEZONE
BEGIN:VEVENT
DTSTART;VALUE=DATE:20210802
DTEND;VALUE=DATE:20210808
DTSTAMP:20260423T094053
CREATED:20210712T110413Z
LAST-MODIFIED:20210712T114652Z
UID:10008486-1627884000-1628315999@www.kambja.info
SUMMARY:Vana-Kuuste mõis 500 - sünnipäevanädal
DESCRIPTION:02.08 Mõisaparki tutvustav giidituur\nInfo ja registreerimine tel 5844 0080 \n03.08 Juubilari (mõisahoone)kunstipärase kujutamise õpituba\nInfo ja registreerimine tel 5837 1819 \n4.08 MTÜ Õnnemaa ja Kuuste noortetoa õpituba\nInfo ja registreerimine tel 5331 5342 \n05.08 Makramee õpituba\nInfo ja registreerimine tel 5383 9300 \n06.08 Kuuste noorkotkaste tegevuspäev\nInfo ja registreerimine tel 5348 4965 \nKõik tegevused algavad kell 15.00 ja soovituslik on eelregistreerimine ürituse FB-i lehel või telefoni teel. \nVaata ka: \n\n31.07 – Vana-Kuuste mõis 500 – sportlik-meelelahutuslik perepäev\n08.08 – Vana-Kuuste mõis 500
URL:https://www.kambja.info/syndmus/vana-kuuste-mois-500-sunnipaevanadal/
LOCATION:Kuuste koolimaja\, Kooli tee 2\, Vana-Kuuste\, Kambja vald\, Tartumaa\, Eesti
CATEGORIES:Koolitus,Näitus
ATTACH;FMTTYPE=image/jpeg:https://www.kambja.info/wp-content/uploads/2021/07/kuuste-mois-500.jpg
GEO:58.252917;26.78236
X-APPLE-STRUCTURED-LOCATION;VALUE=URI;X-ADDRESS=Kuuste koolimaja Kooli tee 2 Vana-Kuuste Kambja vald Tartumaa Eesti;X-APPLE-RADIUS=500;X-TITLE=Kooli tee 2:geo:26.78236,58.252917
END:VEVENT
BEGIN:VEVENT
DTSTART;TZID=Europe/Tallinn:20210808T100000
DTEND;TZID=Europe/Tallinn:20210808T170000
DTSTAMP:20260423T094053
CREATED:20210712T104520Z
LAST-MODIFIED:20210712T104520Z
UID:10008485-1628416800-1628442000@www.kambja.info
SUMMARY:Vana-Kuuste mõis 500
DESCRIPTION:8. augusti päevakava \n10.00 Avasõnad. Päevakava tutvustus \n10.15 Giidituur \n11.00 Kagu-Eesti Kennelklubi tutvustab koeratõuge\, räägitakse ka mõisates peetud\nkoeratõugudest \n12.00 Giidituur \n13.00 Giidituur \n14.00 Nõo Vana Tantsu Klubi tutvustab ja esitab vanu\, sh mõisaaegseid tantse \n15.00 Pille Lille Muusikute Fondi vahendusel saame tuttavaks erinevate pillidega ja\nkuulame mõisaaegset muusikat \nSel päeval on Vana-Kuuste naisseltsi ruumides avatud kohvik ja toimub käsitöö näitus-müük. Ürituse käigus valmib ühistööna tähtpäeva meenutama jääv vaip.
URL:https://www.kambja.info/syndmus/vana-kuuste-mois-500/
LOCATION:Kuuste koolimaja\, Kooli tee 2\, Vana-Kuuste\, Kambja vald\, Tartumaa\, Eesti
CATEGORIES:Muusika,Näitus,Pidu,Tähtpäev
ATTACH;FMTTYPE=image/jpeg:https://www.kambja.info/wp-content/uploads/2021/07/kuuste-mois-500.jpg
ORGANIZER;CN="Kuuste kool":MAILTO:kool@kuuste.edu.ee
GEO:58.252917;26.78236
X-APPLE-STRUCTURED-LOCATION;VALUE=URI;X-ADDRESS=Kuuste koolimaja Kooli tee 2 Vana-Kuuste Kambja vald Tartumaa Eesti;X-APPLE-RADIUS=500;X-TITLE=Kooli tee 2:geo:26.78236,58.252917
END:VEVENT
BEGIN:VEVENT
DTSTART;VALUE=DATE:20210820
DTEND;VALUE=DATE:20211002
DTSTAMP:20260423T094053
CREATED:20210614T123858Z
LAST-MODIFIED:20210614T123918Z
UID:10008479-1629439200-1633067999@www.kambja.info
SUMMARY:Made Kulbergi maalinäitus
DESCRIPTION:Alates 20.08. \nAvatud ringide töö ja ürituste ajal\, muul ajal helistada tel 5309 9523
URL:https://www.kambja.info/syndmus/made-kulbergi-maalinaitus-2/
LOCATION:Kambja kultuurikeskus\, Kesk 12\, Kambja\, Kambja vald\, Tartumaa\, 62034
CATEGORIES:Näitus
ATTACH;FMTTYPE=image/jpeg:https://www.kambja.info/wp-content/uploads/2021/06/TUNNUS_madekulberg_naituse_320_SQ.jpg
GEO:58.236067475094;26.70260166293
X-APPLE-STRUCTURED-LOCATION;VALUE=URI;X-ADDRESS=Kambja kultuurikeskus Kesk 12 Kambja Kambja vald Tartumaa 62034;X-APPLE-RADIUS=500;X-TITLE=Kesk 12:geo:26.70260166293,58.236067475094
END:VEVENT
END:VCALENDAR