BEGIN:VCALENDAR
VERSION:2.0
PRODID:-//Kambja Valla Sõnumid - ECPv6.15.20//NONSGML v1.0//EN
CALSCALE:GREGORIAN
METHOD:PUBLISH
X-WR-CALNAME:Kambja Valla Sõnumid
X-ORIGINAL-URL:https://www.kambja.info
X-WR-CALDESC:Events for Kambja Valla Sõnumid
REFRESH-INTERVAL;VALUE=DURATION:PT1H
X-Robots-Tag:noindex
X-PUBLISHED-TTL:PT1H
BEGIN:VTIMEZONE
TZID:Europe/Tallinn
BEGIN:DAYLIGHT
TZOFFSETFROM:+0200
TZOFFSETTO:+0300
TZNAME:EEST
DTSTART:20210328T010000
END:DAYLIGHT
BEGIN:STANDARD
TZOFFSETFROM:+0300
TZOFFSETTO:+0200
TZNAME:EET
DTSTART:20211031T010000
END:STANDARD
BEGIN:DAYLIGHT
TZOFFSETFROM:+0200
TZOFFSETTO:+0300
TZNAME:EEST
DTSTART:20220327T010000
END:DAYLIGHT
BEGIN:STANDARD
TZOFFSETFROM:+0300
TZOFFSETTO:+0200
TZNAME:EET
DTSTART:20221030T010000
END:STANDARD
BEGIN:DAYLIGHT
TZOFFSETFROM:+0200
TZOFFSETTO:+0300
TZNAME:EEST
DTSTART:20230326T010000
END:DAYLIGHT
BEGIN:STANDARD
TZOFFSETFROM:+0300
TZOFFSETTO:+0200
TZNAME:EET
DTSTART:20231029T010000
END:STANDARD
END:VTIMEZONE
BEGIN:VEVENT
DTSTART;VALUE=DATE:20220601
DTEND;VALUE=DATE:20220702
DTSTAMP:20260422T144305
CREATED:20200528T143119Z
LAST-MODIFIED:20220519T112447Z
UID:10008366-1654063200-1656655199@www.kambja.info
SUMMARY:Maire Kochi maalide näitusmüük
DESCRIPTION:Näitus avatud ringide töö ja ürituste ajal\, muul ajal helistada 5309 9523.
URL:https://www.kambja.info/syndmus/maire-kochi-maalide-naitusmuuk/
LOCATION:Kambja kultuurikeskus\, Kesk 12\, Kambja\, Kambja vald\, Tartumaa\, 62034
CATEGORIES:Näitus
ATTACH;FMTTYPE=image/jpeg:https://www.kambja.info/wp-content/uploads/2020/05/maire_koch_maal_viiuldaja.jpg
GEO:58.236067475094;26.70260166293
X-APPLE-STRUCTURED-LOCATION;VALUE=URI;X-ADDRESS=Kambja kultuurikeskus Kesk 12 Kambja Kambja vald Tartumaa 62034;X-APPLE-RADIUS=500;X-TITLE=Kesk 12:geo:26.70260166293,58.236067475094
END:VEVENT
BEGIN:VEVENT
DTSTART;TZID=Europe/Tallinn:20220622T170000
DTEND;TZID=Europe/Tallinn:20220623T000000
DTSTAMP:20260422T144305
CREATED:20220602T114752Z
LAST-MODIFIED:20220602T114752Z
UID:10008615-1655917200-1655942400@www.kambja.info
SUMMARY:Ülenurme jaanipidu
DESCRIPTION:Traditsiooniline Ülenurme jaanipidu tuleb taas! \nSaab lustida\, süüa\, juua!\nAreenil Rammumehe Tartumaa etapp – kohal on Eestimaa tugevaimad mehed ja naised.\nRahvalikest jõukatsumistest võib osa võtta igaüks\, nii et võid kodus harjutama hakata! \n– Jaanilõke\n– Õnneloos\n– Rahvalikud jõukatsumised\n– Lastele oma ala koos üllatustega\n– Tegevusi terve päev nii suurtele kui väikestele \n17.00 – alustab Rammumees\n17.00 – 19.30 rahvalikud jõukatsumised\, pärgade punumine jt. lustlikud tegemised\n20.00 – jaanitule süütamine\n20.30 – Rolf Roosalu\, Marvi Vallaste ja ansambel Legend \nPiletihinnad:\nEelmüük kohapeal muuseumis kuni 21. juunini täispilet 10 €\, kuni 16. aastastele 8 € ja kuni 8. aastased TASUTA. Eelmüük veebis: \n Osta pilet\n\nÜrituse päeval kohapeal täispilet 15 €\, kuni 16. aastastele 12 € ja kuni 8. aastased TASUTA. \nNäeme Ülenurme jaanipeol!
URL:https://www.kambja.info/syndmus/ulenurme-jaanipidu/
LOCATION:MUHK – Maaelu uudishimukeskus / Eesti Põllumajandusmuuseum\, Pargi 4\, Ülenurme alevik\, Kambja vald\, Tartumaa\, 61714
CATEGORIES:Koolitus,Muusika,Näitus,Pärimus,Pidu
ATTACH;FMTTYPE=image/jpeg:https://www.kambja.info/wp-content/uploads/2022/06/jaanipidu_epm_22062022_thumb_360.jpg
ORGANIZER;CN="SA Eesti Maaelumuuseumid":MAILTO:info@maaelumuuseumid.ee
GEO:58.316518;26.7243
X-APPLE-STRUCTURED-LOCATION;VALUE=URI;X-ADDRESS=MUHK – Maaelu uudishimukeskus / Eesti Põllumajandusmuuseum Pargi 4 Ülenurme alevik Kambja vald Tartumaa 61714;X-APPLE-RADIUS=500;X-TITLE=Pargi 4:geo:26.7243,58.316518
END:VEVENT
END:VCALENDAR