BEGIN:VCALENDAR
VERSION:2.0
PRODID:-//Kambja Valla Sõnumid - ECPv6.15.20//NONSGML v1.0//EN
CALSCALE:GREGORIAN
METHOD:PUBLISH
X-WR-CALNAME:Kambja Valla Sõnumid
X-ORIGINAL-URL:https://www.kambja.info
X-WR-CALDESC:Events for Kambja Valla Sõnumid
REFRESH-INTERVAL;VALUE=DURATION:PT1H
X-Robots-Tag:noindex
X-PUBLISHED-TTL:PT1H
BEGIN:VTIMEZONE
TZID:Europe/Tallinn
BEGIN:DAYLIGHT
TZOFFSETFROM:+0200
TZOFFSETTO:+0300
TZNAME:EEST
DTSTART:20210328T010000
END:DAYLIGHT
BEGIN:STANDARD
TZOFFSETFROM:+0300
TZOFFSETTO:+0200
TZNAME:EET
DTSTART:20211031T010000
END:STANDARD
BEGIN:DAYLIGHT
TZOFFSETFROM:+0200
TZOFFSETTO:+0300
TZNAME:EEST
DTSTART:20220327T010000
END:DAYLIGHT
BEGIN:STANDARD
TZOFFSETFROM:+0300
TZOFFSETTO:+0200
TZNAME:EET
DTSTART:20221030T010000
END:STANDARD
BEGIN:DAYLIGHT
TZOFFSETFROM:+0200
TZOFFSETTO:+0300
TZNAME:EEST
DTSTART:20230326T010000
END:DAYLIGHT
BEGIN:STANDARD
TZOFFSETFROM:+0300
TZOFFSETTO:+0200
TZNAME:EET
DTSTART:20231029T010000
END:STANDARD
END:VTIMEZONE
BEGIN:VEVENT
DTSTART;TZID=Europe/Tallinn:20220702T110000
DTEND;TZID=Europe/Tallinn:20220702T150000
DTSTAMP:20260422T130433
CREATED:20220629T080207Z
LAST-MODIFIED:20220629T080207Z
UID:10008622-1656759600-1656774000@www.kambja.info
SUMMARY:Põllumajandusmuuseumi 54. sünnipäev
DESCRIPTION:Juulikuu esimesel laupäeval\, 2. juulil avab Eesti Põllumajandusmuuseum Ülenurmel suviste elamuslike laupäevade sarja muuseumi 54. sünnipäevale pühendatud eksklusiivsete mõisatuuridega. \nKülastajaid on tervitamas härra Muna\, kes pajatab põnevaid – ja ehk ka pikantseid – lugusid Ülenurme mõisa kuulsusrikkast ajaloost Liivimaa edumeelseimast mõisast kuni tänapäeva muuseumini välja.\nMuuseumi juhataja Merike Lang aga kergitab esimestele uudishimulikele pisut saladuseloori – millised tulevikuplaanid on meeskonnal Ülenurme kompleksi kujundamisel kaasaegseks\, innovaatiliseks näituse- ja külastuskeskkonnaks. \nMuuseumituurid algavad kell 11\, neil osalemiseks lunasta muuseumipilet. Tähelepanu! Tuuril osalejate arv on piiratud\, seetõttu ole aegsasti kohal! Külastajaid ootab sünnipäevale kohaselt kringel. Lisaks tavapärasele näitusemajale pääseb uudistama ka lauda teisel korrusel asuvasse avatud hoidlasse\, varakambrisse ja veterinaarianäitusele\, rukkiküünis tasub üles leida filmi „Tants aurukatla ümber“ superstaar – aurukatel kogu oma eheduses. Palju põnevat on uurida ka nõukogude-aegset põllumajandustehnikat esitleval väljakul\, kus iga masinaga seonduvalt on bännerite sisekülgedel välja toodud kolm põnevat fakti. Kel neist või mõisatuuri jutust midagi tähele panemata või väheks jääb\, saab lisa kuulata audiogiid.memu.ee rakendusest. \nEesti Põllumajandusmuuseumis on kujunemas kenaks traditsiooniks pühendada suvised laupäevad erinevatele teemadele\, kutsuda huvilisi osa saama erinevatest töötubadest ja kaasa lööma lustlikes mängudes. \nPõllumajandusmuuseumisse tasub suvel külla tulla kogu perega! \nPääsmed:\ntäispilet 6 €\, õpilane-üliõpilane-pensionär 4 € \, perepilet 12 €\, kuni 8-aastased lapsed tasuta.
URL:https://www.kambja.info/syndmus/pollumajandusmuuseumi-54-sunnipaev/
LOCATION:MUHK – Maaelu uudishimukeskus / Eesti Põllumajandusmuuseum\, Pargi 4\, Ülenurme alevik\, Kambja vald\, Tartumaa\, 61714
CATEGORIES:Kogukond,Näitus
ATTACH;FMTTYPE=image/jpeg:https://www.kambja.info/wp-content/uploads/2022/06/EPM_54_02072022_thumb_360.jpg
ORGANIZER;CN="SA Eesti Maaelumuuseumid":MAILTO:info@maaelumuuseumid.ee
GEO:58.316518;26.7243
X-APPLE-STRUCTURED-LOCATION;VALUE=URI;X-ADDRESS=MUHK – Maaelu uudishimukeskus / Eesti Põllumajandusmuuseum Pargi 4 Ülenurme alevik Kambja vald Tartumaa 61714;X-APPLE-RADIUS=500;X-TITLE=Pargi 4:geo:26.7243,58.316518
END:VEVENT
BEGIN:VEVENT
DTSTART;TZID=Europe/Tallinn:20220709T100000
DTEND;TZID=Europe/Tallinn:20220709T184000
DTSTAMP:20260422T130433
CREATED:20220704T133630Z
LAST-MODIFIED:20220726T094444Z
UID:10008624-1657360800-1657392000@www.kambja.info
SUMMARY:Unustatud mõisad 2022: Vana-Kuuste mõis
DESCRIPTION:Nagu külastusmängu formaat ette näeb\, on viiel suvepäeval\, 9. ja 10. juulil\, 30. ja 31. juulil ning 13. augustil mõis kõigile huvilistele kell 10.00 – 18.40 avatud. Igal täistunnil toimuvad mõisa ajalugu tutvustavad giidituurid\, avatud on kohvik ning kaasa saab osta erinevaid meeneid ja käsitööesemeid. \nKuuste kooli hea koostöö MTÜ Õnnemaa Kuuste pere-ja noortekeskusega jätkub ka mõisapäevade raames. \nTulge osa saama põnevatest tegevustest! \nMaitseelamuste eest hoolitseb loomulikult Mõisagrill! \nKohv ja muud hõrgutised ootavad teid naisseltsi kohvikus! \n9. juulil \n\nLoovuse õpituba\n\n10. juulil \n\n15.00 Kammermuusikute kontsert „Saksa lied“\n\n30. juulil \n\n12.00 Haaslava Meeskoori keskpäevakontsert\n\n31. juulil \n\n 11.00–16.00 Kuuste pere- ja noortekeskuse loovus- ja mängunurk\n15.00 Albu noored virtuoosid\n\n13. augustil \n\n12.00 Koguperelavastus „Sibulad ja šokolaad“\n\n  \nKoguperelavastus „Sibulad ja šokolaad“
URL:https://www.kambja.info/syndmus/unustatud-moisad-2022-vana-kuuste-mois/2022-07-09/
LOCATION:Kuuste koolimaja\, Kooli tee 2\, Vana-Kuuste\, Kambja vald\, Tartumaa\, Eesti
CATEGORIES:Etendus,Koolitus,Muusika,Näitus
ATTACH;FMTTYPE=image/jpeg:https://www.kambja.info/wp-content/uploads/2021/09/IMG20210920120631-scaled.jpg
ORGANIZER;CN="Kuuste kool":MAILTO:kool@kuuste.edu.ee
GEO:58.252917;26.78236
X-APPLE-STRUCTURED-LOCATION;VALUE=URI;X-ADDRESS=Kuuste koolimaja Kooli tee 2 Vana-Kuuste Kambja vald Tartumaa Eesti;X-APPLE-RADIUS=500;X-TITLE=Kooli tee 2:geo:26.78236,58.252917
END:VEVENT
BEGIN:VEVENT
DTSTART;TZID=Europe/Tallinn:20220709T110000
DTEND;TZID=Europe/Tallinn:20220709T150000
DTSTAMP:20260422T130433
CREATED:20220704T084612Z
LAST-MODIFIED:20220704T084613Z
UID:10008623-1657364400-1657378800@www.kambja.info
SUMMARY:Villapäev
DESCRIPTION:Lambad on ühed tänuväärsed loomad – annavad nad meile nii vajalikku villa. Kuidas saab vill soki sisse? Kuidas villast saab uhkevärviline lõng…..? Seda ja palju muud saab teada villapäeval\, 9. juulil kell 11-15 Eesti Põllumajandusmuuseumis. \nKell 11–13 villase lõnga värvimine taimedega\nKell 13–15 villatööd (pügamine\, pesemine\, näppimine\, kraasimine\, ketramine) \nPäeva jooksul saab uudistada\, milliseid imelisi värve annavad taimed lõngadele. \nÜlenurme käsitööselts viib läbi villahaldja valmistamise töötuba (10 €). \nKellel kodus kuumaalus puudu või vaja üks asjalik ning kaunis kingitus teha\, siis saab meisterdada vilditud kuumaalus (3 €). \nLustlikuma poole peal on valmis pandud vahvad igaühele jõukohased mängud. Viskame villast….. \nVillapäevale pääseb muuseumipiletiga: täiskasvanu 6 €\, õpilane-üliõpilane-pensionär 4 €\, perepilet 12 € \nKui lambaliha järele isutab\, siis Kurgimäe talust Tiina Nukka käest (tel 520 6233). Tellitud liha saad 9.juulil kell 10-17 muuseumist kätte. \nVillapäeval näeme!
URL:https://www.kambja.info/syndmus/villapaev/
LOCATION:MUHK – Maaelu uudishimukeskus / Eesti Põllumajandusmuuseum\, Pargi 4\, Ülenurme alevik\, Kambja vald\, Tartumaa\, 61714
CATEGORIES:Koolitus,Näitus,Pärimus
ATTACH;FMTTYPE=image/jpeg:https://www.kambja.info/wp-content/uploads/2022/07/villapaev_EPM_09072022_thumb360.jpg
ORGANIZER;CN="SA Eesti Maaelumuuseumid":MAILTO:info@maaelumuuseumid.ee
GEO:58.316518;26.7243
X-APPLE-STRUCTURED-LOCATION;VALUE=URI;X-ADDRESS=MUHK – Maaelu uudishimukeskus / Eesti Põllumajandusmuuseum Pargi 4 Ülenurme alevik Kambja vald Tartumaa 61714;X-APPLE-RADIUS=500;X-TITLE=Pargi 4:geo:26.7243,58.316518
END:VEVENT
BEGIN:VEVENT
DTSTART;TZID=Europe/Tallinn:20220730T100000
DTEND;TZID=Europe/Tallinn:20220730T184000
DTSTAMP:20260422T130433
CREATED:20220704T133630Z
LAST-MODIFIED:20220726T094444Z
UID:10008625-1659175200-1659206400@www.kambja.info
SUMMARY:Unustatud mõisad 2022: Vana-Kuuste mõis
DESCRIPTION:Nagu külastusmängu formaat ette näeb\, on viiel suvepäeval\, 9. ja 10. juulil\, 30. ja 31. juulil ning 13. augustil mõis kõigile huvilistele kell 10.00 – 18.40 avatud. Igal täistunnil toimuvad mõisa ajalugu tutvustavad giidituurid\, avatud on kohvik ning kaasa saab osta erinevaid meeneid ja käsitööesemeid. \nKuuste kooli hea koostöö MTÜ Õnnemaa Kuuste pere-ja noortekeskusega jätkub ka mõisapäevade raames. \nTulge osa saama põnevatest tegevustest! \nMaitseelamuste eest hoolitseb loomulikult Mõisagrill! \nKohv ja muud hõrgutised ootavad teid naisseltsi kohvikus! \n9. juulil \n\nLoovuse õpituba\n\n10. juulil \n\n15.00 Kammermuusikute kontsert „Saksa lied“\n\n30. juulil \n\n12.00 Haaslava Meeskoori keskpäevakontsert\n\n31. juulil \n\n 11.00–16.00 Kuuste pere- ja noortekeskuse loovus- ja mängunurk\n15.00 Albu noored virtuoosid\n\n13. augustil \n\n12.00 Koguperelavastus „Sibulad ja šokolaad“\n\n  \nKoguperelavastus „Sibulad ja šokolaad“
URL:https://www.kambja.info/syndmus/unustatud-moisad-2022-vana-kuuste-mois/2022-07-30/
LOCATION:Kuuste koolimaja\, Kooli tee 2\, Vana-Kuuste\, Kambja vald\, Tartumaa\, Eesti
CATEGORIES:Etendus,Koolitus,Muusika,Näitus
ATTACH;FMTTYPE=image/jpeg:https://www.kambja.info/wp-content/uploads/2021/09/IMG20210920120631-scaled.jpg
ORGANIZER;CN="Kuuste kool":MAILTO:kool@kuuste.edu.ee
GEO:58.252917;26.78236
X-APPLE-STRUCTURED-LOCATION;VALUE=URI;X-ADDRESS=Kuuste koolimaja Kooli tee 2 Vana-Kuuste Kambja vald Tartumaa Eesti;X-APPLE-RADIUS=500;X-TITLE=Kooli tee 2:geo:26.78236,58.252917
END:VEVENT
BEGIN:VEVENT
DTSTART;TZID=Europe/Tallinn:20220731T100000
DTEND;TZID=Europe/Tallinn:20220731T184000
DTSTAMP:20260422T130433
CREATED:20220704T133630Z
LAST-MODIFIED:20220726T094444Z
UID:10008626-1659261600-1659292800@www.kambja.info
SUMMARY:Unustatud mõisad 2022: Vana-Kuuste mõis
DESCRIPTION:Nagu külastusmängu formaat ette näeb\, on viiel suvepäeval\, 9. ja 10. juulil\, 30. ja 31. juulil ning 13. augustil mõis kõigile huvilistele kell 10.00 – 18.40 avatud. Igal täistunnil toimuvad mõisa ajalugu tutvustavad giidituurid\, avatud on kohvik ning kaasa saab osta erinevaid meeneid ja käsitööesemeid. \nKuuste kooli hea koostöö MTÜ Õnnemaa Kuuste pere-ja noortekeskusega jätkub ka mõisapäevade raames. \nTulge osa saama põnevatest tegevustest! \nMaitseelamuste eest hoolitseb loomulikult Mõisagrill! \nKohv ja muud hõrgutised ootavad teid naisseltsi kohvikus! \n9. juulil \n\nLoovuse õpituba\n\n10. juulil \n\n15.00 Kammermuusikute kontsert „Saksa lied“\n\n30. juulil \n\n12.00 Haaslava Meeskoori keskpäevakontsert\n\n31. juulil \n\n 11.00–16.00 Kuuste pere- ja noortekeskuse loovus- ja mängunurk\n15.00 Albu noored virtuoosid\n\n13. augustil \n\n12.00 Koguperelavastus „Sibulad ja šokolaad“\n\n  \nKoguperelavastus „Sibulad ja šokolaad“
URL:https://www.kambja.info/syndmus/unustatud-moisad-2022-vana-kuuste-mois/2022-07-31/
LOCATION:Kuuste koolimaja\, Kooli tee 2\, Vana-Kuuste\, Kambja vald\, Tartumaa\, Eesti
CATEGORIES:Etendus,Koolitus,Muusika,Näitus
ATTACH;FMTTYPE=image/jpeg:https://www.kambja.info/wp-content/uploads/2021/09/IMG20210920120631-scaled.jpg
ORGANIZER;CN="Kuuste kool":MAILTO:kool@kuuste.edu.ee
GEO:58.252917;26.78236
X-APPLE-STRUCTURED-LOCATION;VALUE=URI;X-ADDRESS=Kuuste koolimaja Kooli tee 2 Vana-Kuuste Kambja vald Tartumaa Eesti;X-APPLE-RADIUS=500;X-TITLE=Kooli tee 2:geo:26.78236,58.252917
END:VEVENT
END:VCALENDAR