BEGIN:VCALENDAR
VERSION:2.0
PRODID:-//Kambja Valla Sõnumid - ECPv6.15.20//NONSGML v1.0//EN
CALSCALE:GREGORIAN
METHOD:PUBLISH
X-WR-CALNAME:Kambja Valla Sõnumid
X-ORIGINAL-URL:https://www.kambja.info
X-WR-CALDESC:Events for Kambja Valla Sõnumid
REFRESH-INTERVAL;VALUE=DURATION:PT1H
X-Robots-Tag:noindex
X-PUBLISHED-TTL:PT1H
BEGIN:VTIMEZONE
TZID:Europe/Tallinn
BEGIN:DAYLIGHT
TZOFFSETFROM:+0200
TZOFFSETTO:+0300
TZNAME:EEST
DTSTART:20210328T010000
END:DAYLIGHT
BEGIN:STANDARD
TZOFFSETFROM:+0300
TZOFFSETTO:+0200
TZNAME:EET
DTSTART:20211031T010000
END:STANDARD
BEGIN:DAYLIGHT
TZOFFSETFROM:+0200
TZOFFSETTO:+0300
TZNAME:EEST
DTSTART:20220327T010000
END:DAYLIGHT
BEGIN:STANDARD
TZOFFSETFROM:+0300
TZOFFSETTO:+0200
TZNAME:EET
DTSTART:20221030T010000
END:STANDARD
BEGIN:DAYLIGHT
TZOFFSETFROM:+0200
TZOFFSETTO:+0300
TZNAME:EEST
DTSTART:20230326T010000
END:DAYLIGHT
BEGIN:STANDARD
TZOFFSETFROM:+0300
TZOFFSETTO:+0200
TZNAME:EET
DTSTART:20231029T010000
END:STANDARD
END:VTIMEZONE
BEGIN:VEVENT
DTSTART;VALUE=DATE:20220804
DTEND;VALUE=DATE:20220906
DTSTAMP:20260422T112925
CREATED:20220802T101627Z
LAST-MODIFIED:20220802T113744Z
UID:10008631-1659592800-1662357599@www.kambja.info
SUMMARY:Tartu 2024
DESCRIPTION:Kultuuripealinna programmi saab kuuluma üle 300 erineva sündmuse\, millest esimesed 25 on publikule tutvumiseks näitusel üleval. Tule ja avasta\, mida põnevat pakub Euroopa\nkultuuripealinn Tartu 2024 programm! \nNäituse külastamiseks helista 5309 9523 Saidi
URL:https://www.kambja.info/syndmus/tartu-2024/
LOCATION:Kambja kultuurikeskus\, Kesk 12\, Kambja\, Kambja vald\, Tartumaa\, 62034
CATEGORIES:Näitus
ATTACH;FMTTYPE=image/jpeg:https://www.kambja.info/wp-content/uploads/2022/02/20211027_Mana-Kaasik_Tartu2024-scaled.jpg
GEO:58.236067475094;26.70260166293
X-APPLE-STRUCTURED-LOCATION;VALUE=URI;X-ADDRESS=Kambja kultuurikeskus Kesk 12 Kambja Kambja vald Tartumaa 62034;X-APPLE-RADIUS=500;X-TITLE=Kesk 12:geo:26.70260166293,58.236067475094
END:VEVENT
BEGIN:VEVENT
DTSTART;TZID=Europe/Tallinn:20220813T100000
DTEND;TZID=Europe/Tallinn:20220813T184000
DTSTAMP:20260422T112925
CREATED:20220704T133630Z
LAST-MODIFIED:20220726T094444Z
UID:10008627-1660384800-1660416000@www.kambja.info
SUMMARY:Unustatud mõisad 2022: Vana-Kuuste mõis
DESCRIPTION:Nagu külastusmängu formaat ette näeb\, on viiel suvepäeval\, 9. ja 10. juulil\, 30. ja 31. juulil ning 13. augustil mõis kõigile huvilistele kell 10.00 – 18.40 avatud. Igal täistunnil toimuvad mõisa ajalugu tutvustavad giidituurid\, avatud on kohvik ning kaasa saab osta erinevaid meeneid ja käsitööesemeid. \nKuuste kooli hea koostöö MTÜ Õnnemaa Kuuste pere-ja noortekeskusega jätkub ka mõisapäevade raames. \nTulge osa saama põnevatest tegevustest! \nMaitseelamuste eest hoolitseb loomulikult Mõisagrill! \nKohv ja muud hõrgutised ootavad teid naisseltsi kohvikus! \n9. juulil \n\nLoovuse õpituba\n\n10. juulil \n\n15.00 Kammermuusikute kontsert „Saksa lied“\n\n30. juulil \n\n12.00 Haaslava Meeskoori keskpäevakontsert\n\n31. juulil \n\n 11.00–16.00 Kuuste pere- ja noortekeskuse loovus- ja mängunurk\n15.00 Albu noored virtuoosid\n\n13. augustil \n\n12.00 Koguperelavastus „Sibulad ja šokolaad“\n\n  \nKoguperelavastus „Sibulad ja šokolaad“
URL:https://www.kambja.info/syndmus/unustatud-moisad-2022-vana-kuuste-mois/2022-08-13/
LOCATION:Kuuste koolimaja\, Kooli tee 2\, Vana-Kuuste\, Kambja vald\, Tartumaa\, Eesti
CATEGORIES:Etendus,Koolitus,Muusika,Näitus
ATTACH;FMTTYPE=image/jpeg:https://www.kambja.info/wp-content/uploads/2021/09/IMG20210920120631-scaled.jpg
ORGANIZER;CN="Kuuste kool":MAILTO:kool@kuuste.edu.ee
GEO:58.252917;26.78236
X-APPLE-STRUCTURED-LOCATION;VALUE=URI;X-ADDRESS=Kuuste koolimaja Kooli tee 2 Vana-Kuuste Kambja vald Tartumaa Eesti;X-APPLE-RADIUS=500;X-TITLE=Kooli tee 2:geo:26.78236,58.252917
END:VEVENT
BEGIN:VEVENT
DTSTART;TZID=Europe/Tallinn:20220814T100000
DTEND;TZID=Europe/Tallinn:20220814T100000
DTSTAMP:20260422T112925
CREATED:20220809T080100Z
LAST-MODIFIED:20220809T080100Z
UID:10008638-1660471200-1660471200@www.kambja.info
SUMMARY:Kedrafest 2022
DESCRIPTION:Kedrafest tuleb taas. \nKõik savi sõbrad saavad sõrmed savisse pista. \nKõrtsi õues käib Tartu rahvaülikooli suvekool. \nKõrtsitoas on avatud toidutare. \nKeraamika käeproovi viivad läbi Kaur ja Maarit. \nLapsi juhendavad Marili ja Angeliina. \nMuusikat teeb pillimees VOVA. \nTäpselt kell 13.00 alustavad võistlust keraamikud. \nPotikedral treitakse 1\,5 kg-st savist auguga anum. \nVõidab see\, kelle anum on kõige kõrgem. \nKohal on täpse silmaga kohtunikud Virve\, Kristi\, Maarit. \nToetab Kambja vald.
URL:https://www.kambja.info/syndmus/kedrafest-2022/
LOCATION:Uhti Avatud Ateljee\, Valgekõrtsi 22\, Ühti küla\, Kambja vald\, Tartumaa\, 61712
CATEGORIES:Koolitus,Näitus
ATTACH;FMTTYPE=image/jpeg:https://www.kambja.info/wp-content/uploads/2022/08/kedrafest_thumb360.jpg
ORGANIZER;CN="MT%C3%9C Uhti K%C3%BCla S%C3%BCda":MAILTO:paks.kai@gmail.com
GEO:58.2895137;26.7194738,119
X-APPLE-STRUCTURED-LOCATION;VALUE=URI;X-ADDRESS=Uhti Avatud Ateljee Valgekõrtsi 22 Ühti küla Kambja vald Tartumaa 61712;X-APPLE-RADIUS=500;X-TITLE=Valgekõrtsi 22:geo:26.7194738,119,58.2895137
END:VEVENT
BEGIN:VEVENT
DTSTART;TZID=Europe/Tallinn:20220820T110000
DTEND;TZID=Europe/Tallinn:20220820T150000
DTSTAMP:20260422T112925
CREATED:20220819T125022Z
LAST-MODIFIED:20220819T125022Z
UID:10008643-1660993200-1661007600@www.kambja.info
SUMMARY:Tehnikapäev „Mis on karul kõhus“
DESCRIPTION:Kas oled mõelnud\, mis on mängukaru sees või kuidas auto mootor seest välja näeb?! Tule osale tehnikapäeval põnevas töötoas “Mis on karul kõhus? Vaata kolbmootori sisse!”. Võtame mootori lahti ja vaatame üle\, mis seal siis õigupoolest on ja kuidas see töötab! \nVäikestel tehnikahuvilistel on võimalik töötoas valmistada auto või traktor\, millega päeva lõpus ise koju põristada. \nKõigile uudishimulikel on oma silmaga võimalik linamajas näha 20. sajandi algusest pärit aurumasinaid! \nKell 12.00 film „Tants aurukatla ümber“\nTerve päev lõbusõidud muuseumi vanatehnikaga\nKell 11.00-13.00 ponid Mossa ja Prints viivad kõiki lapsi lõbusõidule\nGiidituurid tehnikaväljakul ja tehnikamajas\nAvatud püsinäitused \nSissepääs teemapäevale muuseumipiletiga:\ntäiskasvanu 6 €\,\nõpilane\, üliõpilane\, pensionär 4 €\nperepilet 12 €\nkuni 8. aastased tasuta
URL:https://www.kambja.info/syndmus/tehnikapaev-mis-on-karul-kohus/
LOCATION:MUHK – Maaelu uudishimukeskus / Eesti Põllumajandusmuuseum\, Pargi 4\, Ülenurme alevik\, Kambja vald\, Tartumaa\, 61714
CATEGORIES:Kogukond,Näitus
ATTACH;FMTTYPE=image/jpeg:https://www.kambja.info/wp-content/uploads/2022/08/tehnikapaev_epm20082022.jpg
ORGANIZER;CN="SA Eesti Maaelumuuseumid":MAILTO:info@maaelumuuseumid.ee
GEO:58.316518;26.7243
X-APPLE-STRUCTURED-LOCATION;VALUE=URI;X-ADDRESS=MUHK – Maaelu uudishimukeskus / Eesti Põllumajandusmuuseum Pargi 4 Ülenurme alevik Kambja vald Tartumaa 61714;X-APPLE-RADIUS=500;X-TITLE=Pargi 4:geo:26.7243,58.316518
END:VEVENT
END:VCALENDAR