BEGIN:VCALENDAR
VERSION:2.0
PRODID:-//Kambja Valla Sõnumid - ECPv6.15.20//NONSGML v1.0//EN
CALSCALE:GREGORIAN
METHOD:PUBLISH
X-ORIGINAL-URL:https://www.kambja.info
X-WR-CALDESC:Events for Kambja Valla Sõnumid
REFRESH-INTERVAL;VALUE=DURATION:PT1H
X-Robots-Tag:noindex
X-PUBLISHED-TTL:PT1H
BEGIN:VTIMEZONE
TZID:Europe/Tallinn
BEGIN:DAYLIGHT
TZOFFSETFROM:+0200
TZOFFSETTO:+0300
TZNAME:EEST
DTSTART:20210328T010000
END:DAYLIGHT
BEGIN:STANDARD
TZOFFSETFROM:+0300
TZOFFSETTO:+0200
TZNAME:EET
DTSTART:20211031T010000
END:STANDARD
BEGIN:DAYLIGHT
TZOFFSETFROM:+0200
TZOFFSETTO:+0300
TZNAME:EEST
DTSTART:20220327T010000
END:DAYLIGHT
BEGIN:STANDARD
TZOFFSETFROM:+0300
TZOFFSETTO:+0200
TZNAME:EET
DTSTART:20221030T010000
END:STANDARD
BEGIN:DAYLIGHT
TZOFFSETFROM:+0200
TZOFFSETTO:+0300
TZNAME:EEST
DTSTART:20230326T010000
END:DAYLIGHT
BEGIN:STANDARD
TZOFFSETFROM:+0300
TZOFFSETTO:+0200
TZNAME:EET
DTSTART:20231029T010000
END:STANDARD
END:VTIMEZONE
BEGIN:VEVENT
DTSTART;VALUE=DATE:20220804
DTEND;VALUE=DATE:20220906
DTSTAMP:20260422T095142
CREATED:20220802T101627Z
LAST-MODIFIED:20220802T113744Z
UID:10008631-1659592800-1662357599@www.kambja.info
SUMMARY:Tartu 2024
DESCRIPTION:Kultuuripealinna programmi saab kuuluma üle 300 erineva sündmuse\, millest esimesed 25 on publikule tutvumiseks näitusel üleval. Tule ja avasta\, mida põnevat pakub Euroopa\nkultuuripealinn Tartu 2024 programm! \nNäituse külastamiseks helista 5309 9523 Saidi
URL:https://www.kambja.info/syndmus/tartu-2024/
LOCATION:Kambja kultuurikeskus\, Kesk 12\, Kambja\, Kambja vald\, Tartumaa\, 62034
CATEGORIES:Näitus
ATTACH;FMTTYPE=image/jpeg:https://www.kambja.info/wp-content/uploads/2022/02/20211027_Mana-Kaasik_Tartu2024-scaled.jpg
GEO:58.236067475094;26.70260166293
X-APPLE-STRUCTURED-LOCATION;VALUE=URI;X-ADDRESS=Kambja kultuurikeskus Kesk 12 Kambja Kambja vald Tartumaa 62034;X-APPLE-RADIUS=500;X-TITLE=Kesk 12:geo:26.70260166293,58.236067475094
END:VEVENT
BEGIN:VEVENT
DTSTART;VALUE=DATE:20220901
DTEND;VALUE=DATE:20221030
DTSTAMP:20260422T095142
CREATED:20220802T111909Z
LAST-MODIFIED:20220802T111922Z
UID:10008634-1662012000-1667023199@www.kambja.info
SUMMARY:Ene Tigase fotonäitus „Hetk peatuseks“
DESCRIPTION:Näitus avatud ringide töö ja ürituste ajal. Muul ajal helista 5309 9523 Saidi \nToredaks kingituseks saab osta autori fotoraamatu (15€).
URL:https://www.kambja.info/syndmus/ene-tigase-fotonaitus-hetk-peatuseks/
LOCATION:Kambja kultuurikeskus\, Kesk 12\, Kambja\, Kambja vald\, Tartumaa\, 62034
CATEGORIES:Näitus
ATTACH;FMTTYPE=image/jpeg:https://www.kambja.info/wp-content/uploads/2022/08/foto_ene_tigas_thumb360.jpg
GEO:58.236067475094;26.70260166293
X-APPLE-STRUCTURED-LOCATION;VALUE=URI;X-ADDRESS=Kambja kultuurikeskus Kesk 12 Kambja Kambja vald Tartumaa 62034;X-APPLE-RADIUS=500;X-TITLE=Kesk 12:geo:26.70260166293,58.236067475094
END:VEVENT
BEGIN:VEVENT
DTSTART;TZID=Europe/Tallinn:20220910T130000
DTEND;TZID=Europe/Tallinn:20220910T130000
DTSTAMP:20260422T095142
CREATED:20220802T113524Z
LAST-MODIFIED:20220908T110254Z
UID:10008635-1662814800-1662814800@www.kambja.info
SUMMARY:Hoidiste konkurss-müük JÄÄB ÄRA!
DESCRIPTION:JÄÄB ÄRA OSALEJATE VÄHESUSE TÕTTU!\nKuna käes on hoidiste tegemise aeg\, siis hakake varakult valmistuma 10. septembril kell 13.00 Kambja kultuurikeskuses toimuvaks hoidiste konkurss-müügiks. Oodatud on nii soolased kui ka magusad hoidised. \nKui näete\, et hoidiseid sai liiga palju tehtud\, siis tooge müüki. Saate oma töö eest tasu ja enam meeldinud hoidiste tegijad saavad premeeritud. Need\, kes ei viitsi ise hoidistega mässata\, tulge kohale\, maitske ja ostke endale meeldiv hoidis. \nHoidiste konkursiks palun registreeruda 5309 9523 Saidi \nVõib tulla müüma ka kurki\, tomatit\, õuna\, paprikat\, kõrvitsat jne. mida endal on ülearu. \nAinuke nõue\, et hinnad oleksid soodsad. \nKohtumiseni!
URL:https://www.kambja.info/syndmus/hoidiste-konkurss-muuk/
LOCATION:Kambja kultuurikeskus\, Kesk 12\, Kambja\, Kambja vald\, Tartumaa\, 62034
CATEGORIES:Laat/mess,Näitus
ATTACH;FMTTYPE=image/jpeg:https://www.kambja.info/wp-content/uploads/2022/08/Hoidiste-konkurss_10092022_KAKUKE_thumb360.jpg
GEO:58.236067475094;26.70260166293
X-APPLE-STRUCTURED-LOCATION;VALUE=URI;X-ADDRESS=Kambja kultuurikeskus Kesk 12 Kambja Kambja vald Tartumaa 62034;X-APPLE-RADIUS=500;X-TITLE=Kesk 12:geo:26.70260166293,58.236067475094
END:VEVENT
END:VCALENDAR