BEGIN:VCALENDAR
VERSION:2.0
PRODID:-//Kambja Valla Sõnumid - ECPv6.15.20//NONSGML v1.0//EN
CALSCALE:GREGORIAN
METHOD:PUBLISH
X-ORIGINAL-URL:https://www.kambja.info
X-WR-CALDESC:Events for Kambja Valla Sõnumid
REFRESH-INTERVAL;VALUE=DURATION:PT1H
X-Robots-Tag:noindex
X-PUBLISHED-TTL:PT1H
BEGIN:VTIMEZONE
TZID:Europe/Tallinn
BEGIN:DAYLIGHT
TZOFFSETFROM:+0200
TZOFFSETTO:+0300
TZNAME:EEST
DTSTART:20210328T010000
END:DAYLIGHT
BEGIN:STANDARD
TZOFFSETFROM:+0300
TZOFFSETTO:+0200
TZNAME:EET
DTSTART:20211031T010000
END:STANDARD
BEGIN:DAYLIGHT
TZOFFSETFROM:+0200
TZOFFSETTO:+0300
TZNAME:EEST
DTSTART:20220327T010000
END:DAYLIGHT
BEGIN:STANDARD
TZOFFSETFROM:+0300
TZOFFSETTO:+0200
TZNAME:EET
DTSTART:20221030T010000
END:STANDARD
BEGIN:DAYLIGHT
TZOFFSETFROM:+0200
TZOFFSETTO:+0300
TZNAME:EEST
DTSTART:20230326T010000
END:DAYLIGHT
BEGIN:STANDARD
TZOFFSETFROM:+0300
TZOFFSETTO:+0200
TZNAME:EET
DTSTART:20231029T010000
END:STANDARD
BEGIN:DAYLIGHT
TZOFFSETFROM:+0200
TZOFFSETTO:+0300
TZNAME:EEST
DTSTART:20240331T010000
END:DAYLIGHT
BEGIN:STANDARD
TZOFFSETFROM:+0300
TZOFFSETTO:+0200
TZNAME:EET
DTSTART:20241027T010000
END:STANDARD
END:VTIMEZONE
BEGIN:VEVENT
DTSTART;VALUE=DATE:20221101
DTEND;VALUE=DATE:20230102
DTSTAMP:20260422T050017
CREATED:20221006T110549Z
LAST-MODIFIED:20221206T161624Z
UID:10008716-1667282400-1672552799@www.kambja.info
SUMMARY:Maalinäitus: Anne Nook
DESCRIPTION:Kunstiharrastaja maalide näitus. \nNäitus avatud ringide töö ja ürituste ajal. Muul ajal helista 5309 9523 Saidi
URL:https://www.kambja.info/syndmus/maalinaitus-anne-nook/
LOCATION:Kambja kultuurikeskus\, Kesk 12\, Kambja\, Kambja vald\, Tartumaa\, 62034
CATEGORIES:Näitus
ATTACH;FMTTYPE=image/jpeg:https://www.kambja.info/wp-content/uploads/2022/10/anne_nook_maalinaitud_kakuke_thumb360.jpg
GEO:58.236067475094;26.70260166293
X-APPLE-STRUCTURED-LOCATION;VALUE=URI;X-ADDRESS=Kambja kultuurikeskus Kesk 12 Kambja Kambja vald Tartumaa 62034;X-APPLE-RADIUS=500;X-TITLE=Kesk 12:geo:26.70260166293,58.236067475094
END:VEVENT
BEGIN:VEVENT
DTSTART;TZID=Europe/Tallinn:20221217T120000
DTEND;TZID=Europe/Tallinn:20221217T150000
DTSTAMP:20260422T050017
CREATED:20221213T111530Z
LAST-MODIFIED:20221213T111530Z
UID:10008760-1671278400-1671289200@www.kambja.info
SUMMARY:Jõulutrall põllumajandusmuusemis
DESCRIPTION:  \nEesti Põllumajandusmuuseumis on toad siginat-saginat täis\, sest Nuti ja Uudu koos teiste päkapikkudega ootavad kõiki väikeseid ja suuri sõpru lustakale jõulutrallile. \nPäkapikud kutsuvad sind: \n\n– jõuluvana külastama\n– õnnetina valama\n– valguse ja tunnetuse tuppa seiklema\n– osavust proovile panema takistuste rajal\n– loomi külastama\n– villahaldjaid looma (10 EUR)\n– hobusõitu tegema (lisatasu eest)\n– Mini Farm mängumaale mängima (5 EUR)\n– päkapikkudega meisterdama\n– piparkooke küpsetama ja kaunistama\n\nPilet: 6 €\nPerepilet: 12 €\n0-3 aastased TASUTA
URL:https://www.kambja.info/syndmus/joulutrall-pollumajandusmuusemis/
LOCATION:MUHK – Maaelu uudishimukeskus / Eesti Põllumajandusmuuseum\, Pargi 4\, Ülenurme alevik\, Kambja vald\, Tartumaa\, 61714
CATEGORIES:Koolitus,Näitus,Pärimus
ATTACH;FMTTYPE=image/jpeg:https://www.kambja.info/wp-content/uploads/2022/12/Joulutrall-EPM-2022_thumb360.jpg
ORGANIZER;CN="SA Eesti Maaelumuuseumid":MAILTO:info@maaelumuuseumid.ee
GEO:58.316518;26.7243
X-APPLE-STRUCTURED-LOCATION;VALUE=URI;X-ADDRESS=MUHK – Maaelu uudishimukeskus / Eesti Põllumajandusmuuseum Pargi 4 Ülenurme alevik Kambja vald Tartumaa 61714;X-APPLE-RADIUS=500;X-TITLE=Pargi 4:geo:26.7243,58.316518
END:VEVENT
END:VCALENDAR