BEGIN:VCALENDAR
VERSION:2.0
PRODID:-//Kambja Valla Sõnumid - ECPv6.15.20//NONSGML v1.0//EN
CALSCALE:GREGORIAN
METHOD:PUBLISH
X-WR-CALNAME:Kambja Valla Sõnumid
X-ORIGINAL-URL:https://www.kambja.info
X-WR-CALDESC:Events for Kambja Valla Sõnumid
REFRESH-INTERVAL;VALUE=DURATION:PT1H
X-Robots-Tag:noindex
X-PUBLISHED-TTL:PT1H
BEGIN:VTIMEZONE
TZID:Europe/Tallinn
BEGIN:DAYLIGHT
TZOFFSETFROM:+0200
TZOFFSETTO:+0300
TZNAME:EEST
DTSTART:20220327T010000
END:DAYLIGHT
BEGIN:STANDARD
TZOFFSETFROM:+0300
TZOFFSETTO:+0200
TZNAME:EET
DTSTART:20221030T010000
END:STANDARD
BEGIN:DAYLIGHT
TZOFFSETFROM:+0200
TZOFFSETTO:+0300
TZNAME:EEST
DTSTART:20230326T010000
END:DAYLIGHT
BEGIN:STANDARD
TZOFFSETFROM:+0300
TZOFFSETTO:+0200
TZNAME:EET
DTSTART:20231029T010000
END:STANDARD
BEGIN:DAYLIGHT
TZOFFSETFROM:+0200
TZOFFSETTO:+0300
TZNAME:EEST
DTSTART:20240331T010000
END:DAYLIGHT
BEGIN:STANDARD
TZOFFSETFROM:+0300
TZOFFSETTO:+0200
TZNAME:EET
DTSTART:20241027T010000
END:STANDARD
END:VTIMEZONE
BEGIN:VEVENT
DTSTART;TZID=Europe/Tallinn:20230520T110000
DTEND;TZID=Europe/Tallinn:20230520T150000
DTSTAMP:20260421T223909
CREATED:20230515T100928Z
LAST-MODIFIED:20230515T100928Z
UID:10009435-1684580400-1684594800@www.kambja.info
SUMMARY:Lemmikloomapäev
DESCRIPTION:20. mail on kõigil lemmikloomasõpradel võimalik tulla koos oma lemmikuga Eesti Põllumajandusmuuseumisse. Kui oma lemmikut kaasa võtta ei soovi\, tule imetle teiste omasid\, osale põnevates tegevustes ja vaata programmi areenil. Muuseumi välialal jagub põnevad tegevusi kogu perele. Sõita saab poniga\, paitada miniloomi ja tutvuda alpakatega. MiniFarm mängumaal saab proovida põnevat maaelu! \nKoertekool Fortem õpetab koertele trikke ja Rallikoer paneb üles rallikuulekuse raja. \nLõuna-Eesti Koertekeskuse koeratõugude tutvustus areenil.\nVõimalus nii endale kui ka oma lemmikule ise mänguasju meisterdada. \nÜritust külastavatel lemmikloomadel võimalus osaleda lemmikloomade võistlusel\, võita väärt auhindu ja jäädvustada mõnusad hetked fotonurgas! \n– Lemmikutele isetehtud mänguasjade õpetused\n– Osta põnevaid tooteid lemmikloomadele\n– Koerte rallikuulekuse rada\n– Trikkide õpetus\n– Terve päev põnev lavaprogramm areenil\n– Loomadega tutvumine\n– Lemmikute paraad\n– Lemmikute lemmiku valimine\n– Miniloomaaed\n– Näitus “Hirmus armas nahkhiir” \nJa veel palju tegevusi suurtele\, väikestele\, karvastele ja sulelistele. \nPilet:\nTäiskasvanu 7 €\nSooduspääse (õpilane\, üliõpilane\, pensionär\, ITIC kaardi omanik) 5 €\n0-3.a lapsed TASUTA\nPerepääse (2 täiskasvanut ja 16a ja nooremad lapsed) 14 €\nEesti lasterikaste perede perekaardi esitamisel perepääse 7 € \n 
URL:https://www.kambja.info/syndmus/lemmikloomapaev-2/
LOCATION:MUHK – Maaelu uudishimukeskus / Eesti Põllumajandusmuuseum\, Pargi 4\, Ülenurme alevik\, Kambja vald\, Tartumaa\, 61714
CATEGORIES:Kogukond,Koolitus,Laat/mess,Näitus
ATTACH;FMTTYPE=image/jpeg:https://www.kambja.info/wp-content/uploads/2023/05/Lemmikloomapaev_EPM_20052023_thumb.jpg
ORGANIZER;CN="SA Eesti Maaelumuuseumid":MAILTO:info@maaelumuuseumid.ee
GEO:58.316518;26.7243
X-APPLE-STRUCTURED-LOCATION;VALUE=URI;X-ADDRESS=MUHK – Maaelu uudishimukeskus / Eesti Põllumajandusmuuseum Pargi 4 Ülenurme alevik Kambja vald Tartumaa 61714;X-APPLE-RADIUS=500;X-TITLE=Pargi 4:geo:26.7243,58.316518
END:VEVENT
BEGIN:VEVENT
DTSTART;TZID=Europe/Tallinn:20230520T180000
DTEND;TZID=Europe/Tallinn:20230520T230000
DTSTAMP:20260421T223909
CREATED:20230518T073748Z
LAST-MODIFIED:20230518T073826Z
UID:10009444-1684605600-1684623600@www.kambja.info
SUMMARY:Muuseumiöö
DESCRIPTION:20. mail on võimalus tulla muuseumisse külla õhtuhämaruses. Avame oma uksed ja ootame teid lahkelt külla muuseumiööle! \nMuuseumiöö kannab seekord pealkirja „Öös on liikumist“. Teema on seotud eelkõige 2023. aasta riikliku liikumise teema-aastaga\, mis keskendub tervislikele eluviisidele ja liikumisharrastusele. Ja liigume ka meie muuseumis nii vanatehnika\, hobuste kui ka imemasinatega! \n\nTehnikamaja näitus “Kui aeg on kasin\, siis leiuta masin” mis tutvustab nõukoguaegseid omavalmistatud imemasinaid\nAutode meisterdamise töötuba\nVanatehnika sõidud traktori ja veoautoga\n\nPilet: 1 € \nMuuseumiööl on käigus muuseumibuss marsruudil Tartu Vanemuise alumine parkla kell 18.00 – Eesti Põllumajandusmuuseum – Karilatsi Vabaõhumuuseum – Eesti Maanteemuuseum – Vanemuise alumine parkla (orienteeruvalt kell 23.00).\nKohtade arv piiratud! Registreeru bussile siin. \nKohtumiseni muuseumiööl!
URL:https://www.kambja.info/syndmus/muuseumioo/
LOCATION:MUHK – Maaelu uudishimukeskus / Eesti Põllumajandusmuuseum\, Pargi 4\, Ülenurme alevik\, Kambja vald\, Tartumaa\, 61714
CATEGORIES:Näitus
ATTACH;FMTTYPE=image/jpeg:https://www.kambja.info/wp-content/uploads/2023/05/muuseumioo_EPM_20052023_thumb.jpg
ORGANIZER;CN="SA Eesti Maaelumuuseumid":MAILTO:info@maaelumuuseumid.ee
GEO:58.316518;26.7243
X-APPLE-STRUCTURED-LOCATION;VALUE=URI;X-ADDRESS=MUHK – Maaelu uudishimukeskus / Eesti Põllumajandusmuuseum Pargi 4 Ülenurme alevik Kambja vald Tartumaa 61714;X-APPLE-RADIUS=500;X-TITLE=Pargi 4:geo:26.7243,58.316518
END:VEVENT
BEGIN:VEVENT
DTSTART;VALUE=DATE:20230522
DTEND;VALUE=DATE:20230602
DTSTAMP:20260421T223909
CREATED:20230519T092837Z
LAST-MODIFIED:20230519T092837Z
UID:10009447-1684735200-1685599199@www.kambja.info
SUMMARY:Rändnäitus „Pärand elab“
DESCRIPTION:Näitus “Pärand elab!” kutsub märkama ja väärtustama vaimset pärandit meie ümber\, tutvustades neljateistkümmet kultuuriilmingut Eesti vaimse kultuuripärandi nimistust. Igaüks neist on oma kogukonna\, oma inimeste jaoks armas ja tähtis. Näitusel on võimalik mõtiskleda nende aarete üle\, mille oleme ise oma esivanematelt pärinud ning tutvuda ka selle osaga kultuuripärandist\, mis on meie kaasmaalastele südamelähedane. \nReola kultuurimaja uksed on näituse uudistamiseks avatud tööpäeviti kell 11.-15.00\, muul ajal helista tel 5309 9523 (Saidi) ja lepi aeg kokku. \nVeel näitusest \nOled oodatud!
URL:https://www.kambja.info/syndmus/randnaitus-parand-elab/
LOCATION:Reola kultuurimaja\, Valge tee 1\, Uhti küla\, Kambja vald\, Tartumaa\, 61712
CATEGORIES:Näitus
ATTACH;FMTTYPE=image/jpeg:https://www.kambja.info/wp-content/uploads/2023/05/parand_elab_thumb.jpg
GEO:58.285495;26.713672
X-APPLE-STRUCTURED-LOCATION;VALUE=URI;X-ADDRESS=Reola kultuurimaja Valge tee 1 Uhti küla Kambja vald Tartumaa 61712;X-APPLE-RADIUS=500;X-TITLE=Valge tee 1:geo:26.713672,58.285495
END:VEVENT
END:VCALENDAR