BEGIN:VCALENDAR
VERSION:2.0
PRODID:-//Kambja Valla Sõnumid - ECPv6.15.20//NONSGML v1.0//EN
CALSCALE:GREGORIAN
METHOD:PUBLISH
X-WR-CALNAME:Kambja Valla Sõnumid
X-ORIGINAL-URL:https://www.kambja.info
X-WR-CALDESC:Events for Kambja Valla Sõnumid
REFRESH-INTERVAL;VALUE=DURATION:PT1H
X-Robots-Tag:noindex
X-PUBLISHED-TTL:PT1H
BEGIN:VTIMEZONE
TZID:Europe/Tallinn
BEGIN:DAYLIGHT
TZOFFSETFROM:+0200
TZOFFSETTO:+0300
TZNAME:EEST
DTSTART:20220327T010000
END:DAYLIGHT
BEGIN:STANDARD
TZOFFSETFROM:+0300
TZOFFSETTO:+0200
TZNAME:EET
DTSTART:20221030T010000
END:STANDARD
BEGIN:DAYLIGHT
TZOFFSETFROM:+0200
TZOFFSETTO:+0300
TZNAME:EEST
DTSTART:20230326T010000
END:DAYLIGHT
BEGIN:STANDARD
TZOFFSETFROM:+0300
TZOFFSETTO:+0200
TZNAME:EET
DTSTART:20231029T010000
END:STANDARD
BEGIN:DAYLIGHT
TZOFFSETFROM:+0200
TZOFFSETTO:+0300
TZNAME:EEST
DTSTART:20240331T010000
END:DAYLIGHT
BEGIN:STANDARD
TZOFFSETFROM:+0300
TZOFFSETTO:+0200
TZNAME:EET
DTSTART:20241027T010000
END:STANDARD
END:VTIMEZONE
BEGIN:VEVENT
DTSTART;TZID=Europe/Tallinn:20230603T110000
DTEND;TZID=Europe/Tallinn:20230603T200000
DTSTAMP:20260421T192541
CREATED:20230505T094706Z
LAST-MODIFIED:20230523T101647Z
UID:10009427-1685790000-1685822400@www.kambja.info
SUMMARY:Kambja valla perepäev
DESCRIPTION:3. juunil ootame Teid suurele Kambja valla perepäevale Vana-Kuuste mõisaparki! \nTegevust jagub nii suurtele kui ka väikestele – töötoad\, spordivõistlused\, mototehnika\, hea toit\, näitused ja palju muud põnevat. \nKohal on Motohunt\, Lange Motokeskus\, Piip ja Tuut ning õhtu lõppeb Bossenova kontserdiga. \nPäeva juhivad Kristo Toots ja Andri Aasajärv. \nKogu üritus on külastajatele tasuta! \nSee on suurepärane võimalus veeta kvaliteetaega oma pere ja sõpradega\, nautides\nlõbusaid tegevusi ja head seltskonda. Ootame Teid kõiki osalema ja koos meiega perepäeva\ntähistama! \n11.00–12.00 Avasõnad Mõisagrilli Pannkoogihommik magusa Salvesti moosiga\n11.00–16.00 Vana-Kuuste Naisseltsi käsitöönäitus\, vaiba kudumise töötuba kangastelgedel “Lapsepõlve värvid”\n12.00–19.00 Tsiklite ja Ameerika autode näitus – Rakvere Motokodu\, Kuuste Auto\n12.00–14.00 Spordivõistlused Kuuste kooli poolt – auhinnad Salvest\, Lihuniku Äri\, Aura\n12.00–16.00 Päästeameti auto\, Punane rist ja piirkonna politseinik\n13.00–16.00 Motohunt\, Motohobi\, Lange Motokeskus- tsiklite tehniline tutvustus\, vigursõit laste sõidutamine külgkorviga\, kidracerid\n13.00–16.00 Töötoad – erinevad meisterdamised\, robootika\, lastejooga jne. Lastele üllatuskülaline.\n14.30–15.30 MTÜ Õnnemaa noortebänd Amplituud\n16.00–16.45 Bossenova kontsert\n17.00–18.00 Piip ja Tuut lasteetendus\n18.00–19.00 Bossenova kontsert
URL:https://www.kambja.info/syndmus/kambja-valla-perepaev/
LOCATION:Vana-Kuuste mõisapark\, Kooli tee 2\, Vana-Kuuste küla\, Kambja vald\, Tartumaa\, Eesti
CATEGORIES:Etendus,Kogukond,Koolitus,Laat/mess,Muusika,Näitus,Spordivõistlus
ATTACH;FMTTYPE=image/jpeg:https://www.kambja.info/wp-content/uploads/2023/05/Perepaev_Kuustes_-2023_thumb.jpg
ORGANIZER;CN="MT%C3%9C Kuuste Meesselts":MAILTO:kuustemeesselt@gmail.com
GEO:58.251689;26.782065
X-APPLE-STRUCTURED-LOCATION;VALUE=URI;X-ADDRESS=Vana-Kuuste mõisapark Kooli tee 2 Vana-Kuuste küla Kambja vald Tartumaa Eesti;X-APPLE-RADIUS=500;X-TITLE=Kooli tee 2:geo:26.782065,58.251689
END:VEVENT
BEGIN:VEVENT
DTSTART;TZID=Europe/Tallinn:20230617T100000
DTEND;TZID=Europe/Tallinn:20230618T180000
DTSTAMP:20260421T192541
CREATED:20230518T082636Z
LAST-MODIFIED:20230518T082636Z
UID:10009445-1686996000-1687111200@www.kambja.info
SUMMARY:Eesti lennupäevad
DESCRIPTION:Traditsiooniliseks kujunenud iga-aastased Eesti lennupäevad on Baltikumi suurim lennundusüritus. Lennupäevade initsiaatoriks on jätkuvalt Eesti lennundusmuuseum ja olulisemad partnerid on õhuvägi ja Eesti lennuakadeemia. \nLennundusmuuseum\, Lange küla\, Kastre vald. \nTäpsemalt
URL:https://www.kambja.info/syndmus/eesti-lennupaevad/
LOCATION:Kambja vald\, Tartumaa
CATEGORIES:Näitus
ATTACH;FMTTYPE=image/jpeg:https://www.kambja.info/wp-content/uploads/2023/05/lennupaevad_thumb.jpg
END:VEVENT
BEGIN:VEVENT
DTSTART;TZID=Europe/Tallinn:20230623T110000
DTEND;TZID=Europe/Tallinn:20230623T140000
DTSTAMP:20260421T192541
CREATED:20230518T085809Z
LAST-MODIFIED:20230614T111120Z
UID:10009446-1687518000-1687528800@www.kambja.info
SUMMARY:Maakaitsepäev
DESCRIPTION:Kell 11–14 on kavandatud temaatilised sõnavõtud\, esinemised\, avatud on pop-up ala\, vaadata saab tehnika- ja relvanäitust\, toimub Kaitseliidu Tartu maleva rivistus ja ergutamine\, jagatakse võidutuld\, pakutakse sõdurisuppi ning Naiskodukaitse korraldab heategevusloterii. \nKAVA \n11.00 – maakaitsepäeva avamine põllumajandusmuuseumi areenil\n* Kambja vallavanema sõnavõtt\n* esinevad lauljad ja rahvatantsijad\n* põnevad tegevused alal\n13.00 – Kaitseliidu Tartu maleva pidulik rivistus ja ergutuste üleandmine\n13.40 – võidutule toomise ja jagamise tseremoonia
URL:https://www.kambja.info/syndmus/maakaitsepaev/
LOCATION:MUHK – Maaelu uudishimukeskus / Eesti Põllumajandusmuuseum\, Pargi 4\, Ülenurme alevik\, Kambja vald\, Tartumaa\, 61714
CATEGORIES:Kogukond,Näitus,Tähtpäev
ATTACH;FMTTYPE=image/jpeg:https://www.kambja.info/wp-content/uploads/2023/05/maakaitsepaev_2023_thumb.jpg
GEO:58.316518;26.7243
X-APPLE-STRUCTURED-LOCATION;VALUE=URI;X-ADDRESS=MUHK – Maaelu uudishimukeskus / Eesti Põllumajandusmuuseum Pargi 4 Ülenurme alevik Kambja vald Tartumaa 61714;X-APPLE-RADIUS=500;X-TITLE=Pargi 4:geo:26.7243,58.316518
END:VEVENT
END:VCALENDAR