BEGIN:VCALENDAR
VERSION:2.0
PRODID:-//Kambja Valla Sõnumid - ECPv6.15.20//NONSGML v1.0//EN
CALSCALE:GREGORIAN
METHOD:PUBLISH
X-WR-CALNAME:Kambja Valla Sõnumid
X-ORIGINAL-URL:https://www.kambja.info
X-WR-CALDESC:Events for Kambja Valla Sõnumid
REFRESH-INTERVAL;VALUE=DURATION:PT1H
X-Robots-Tag:noindex
X-PUBLISHED-TTL:PT1H
BEGIN:VTIMEZONE
TZID:Europe/Tallinn
BEGIN:DAYLIGHT
TZOFFSETFROM:+0200
TZOFFSETTO:+0300
TZNAME:EEST
DTSTART:20220327T010000
END:DAYLIGHT
BEGIN:STANDARD
TZOFFSETFROM:+0300
TZOFFSETTO:+0200
TZNAME:EET
DTSTART:20221030T010000
END:STANDARD
BEGIN:DAYLIGHT
TZOFFSETFROM:+0200
TZOFFSETTO:+0300
TZNAME:EEST
DTSTART:20230326T010000
END:DAYLIGHT
BEGIN:STANDARD
TZOFFSETFROM:+0300
TZOFFSETTO:+0200
TZNAME:EET
DTSTART:20231029T010000
END:STANDARD
BEGIN:DAYLIGHT
TZOFFSETFROM:+0200
TZOFFSETTO:+0300
TZNAME:EEST
DTSTART:20240331T010000
END:DAYLIGHT
BEGIN:STANDARD
TZOFFSETFROM:+0300
TZOFFSETTO:+0200
TZNAME:EET
DTSTART:20241027T010000
END:STANDARD
END:VTIMEZONE
BEGIN:VEVENT
DTSTART;VALUE=DATE:20231012
DTEND;VALUE=DATE:20231210
DTSTAMP:20260421T104941
CREATED:20230925T142514Z
LAST-MODIFIED:20231016T085835Z
UID:10012894-1697090400-1702101599@www.kambja.info
SUMMARY:Maalide näitus „Pihlamarjade maa“
DESCRIPTION:Setomaast inspireeritud maalide näitus. \nMaalide autor Ingrid Ulst.
URL:https://www.kambja.info/syndmus/maalide-naitus-pihlamarjade-maa/
LOCATION:Tõrvandi raamatukogu\, Ringtee 1\, Tõrvandi alevik\, Kambja vald\, Tartumaa\, 61715
CATEGORIES:Näitus
ATTACH;FMTTYPE=image/jpeg:https://www.kambja.info/wp-content/uploads/2023/09/THUMB_naitus_ulst_Trvnd_rmtk.jpg
ORGANIZER;CN="T%C3%B5rvandi raamatukogu":MAILTO:raamatukogu@torvandi.ee
GEO:58.321414;26.706153
X-APPLE-STRUCTURED-LOCATION;VALUE=URI;X-ADDRESS=Tõrvandi raamatukogu Ringtee 1 Tõrvandi alevik Kambja vald Tartumaa 61715;X-APPLE-RADIUS=500;X-TITLE=Ringtee 1:geo:26.706153,58.321414
END:VEVENT
BEGIN:VEVENT
DTSTART;TZID=Europe/Tallinn:20231101T000000
DTEND;TZID=Europe/Tallinn:20231231T000000
DTSTAMP:20260421T104941
CREATED:20231101T094615Z
LAST-MODIFIED:20231101T112609Z
UID:10019463-1698796800-1703980800@www.kambja.info
SUMMARY:Maie Karaski maalide näitus-müük
DESCRIPTION:Avatud ringide töö ja ürituste ajal\, muul ajal helista tel 5309 9523 Saidi.
URL:https://www.kambja.info/syndmus/maie-karaski-maalide-naitus-muuk/
LOCATION:Kambja kultuurikeskus\, Kesk 12\, Kambja\, Kambja vald\, Tartumaa\, 62034
CATEGORIES:Näitus
ATTACH;FMTTYPE=image/jpeg:https://www.kambja.info/wp-content/uploads/2019/09/THUMB_maie_karaski_maal_tmp.jpg
GEO:58.236067475094;26.70260166293
X-APPLE-STRUCTURED-LOCATION;VALUE=URI;X-ADDRESS=Kambja kultuurikeskus Kesk 12 Kambja Kambja vald Tartumaa 62034;X-APPLE-RADIUS=500;X-TITLE=Kesk 12:geo:26.70260166293,58.236067475094
END:VEVENT
BEGIN:VEVENT
DTSTART;TZID=Europe/Tallinn:20231216T110000
DTEND;TZID=Europe/Tallinn:20231216T140000
DTSTAMP:20260421T104941
CREATED:20231207T092016Z
LAST-MODIFIED:20231212T094551Z
UID:10033591-1702724400-1702735200@www.kambja.info
SUMMARY:Jõulutrall põllumajandusmuuseumis
DESCRIPTION:Eesti Põllumajandusmuuseum on laupäeval\, 16. detsembril taas siginat-saginat täis\, sest kohale on jõudnud päkapikud\, kes ootavad kõiki väikeseid ja suuri lustakale kogupere jõulutrallile. \nJagub tegutsemist\, uudistamist\, meisterdamist\, avastamist! Muuseumi lauda võlumetsa päkapikud kutsuvad kell 11.30 ja 13.00 jõuluetteastele „Katkine naer“. Käsitööhoovi meistrikodade meisterpäkapikud juhendavad jõulukinkide\, jõuluehete ja -kaunistuste valmistamist ning päkapikk Sepp valab õnnetina.\nLeivatare usinad pagarpäkapikud ootavad piparkooke kaunistama ja pakivad soovijatele väikese tasu eest kaasa jõuluorikaid ning piparkoogitainast. \nJa mis trall see ilma päkapikkude takistusrajata ikka on….. Kohal on ka jõulutaat vahvate lugude ja põnevate üllatustega ning palju-palju muud huvitavat!\nPäkapikud ootavad jõulutrallile kell 11–14.\nPileteid üritusele saab osta kohapeal peanäitustemaja muuseumipoest\, leivatarest ja laudast. \nTule kogu perega\, sest koosveedetud aeg on parim jõulukink!\nMida jõulutrallil teha/näha saab? \n– Vaadata päkapikkude jõuluetteastet „Katkine naer“ (kell 11.30 ja 13.00\, lauda võlumetsas) \n– Takistusrajal oma osavust proovile panna (käsitööhoovis) \n– Jõuluvanaga kohtuda (laudas ja käsitööhoovis) \n– Õnnetina valada (sepikojas käsitööhoovis) \n– Puutöökojas meisterdada (käsitööhoovis) \n– Piparkooke kaunistada ja jõuluorikate tegemist uudistada\, jõuluorikaid ja piparkoogitainast kaasa osta (leivatares) \n– Kuuseehteid ja jõulukaarte meisterdada (käsitööhoovis ja laudas) \n– „Hirmus armas nahkhiir“ näitust külastada (tehnikamajas areeni kõrval) \n– Lõkkepaistel soojendada ja sooja teed juua (lõkkeväljakul käsitööhoovis) \n– ÕNNELOOSIST osa võtta (peanäituste majas) \n– Muuseumi loomadega kohtuda (laudas) \n– Vanaaja jõulukommete lugusid kuulata (laudas ja käsitööhoovis) \n– Kui ilmataat külmakoti rauad lahti hoiab\, siis on areenil avatud uisuväljak. Tasuta kasutamiseks. Võta enda uisud kaasa. \n– Soodsate lumeolude jätkudes on avatud kelgumägi. Võta kelk kaasa ja tule naudi talvemõnusid. \nPiletid müügil kohapeal peanäitustemaja muuseumipoes\, leivatares ja laudas. \nPilet: 7 €\nPerepilet: 14 €\n0–3 aastased: TASUTA\nSisse pääseb ka muuseumikaardiga! \nKohtumiseni jõulutrallil!
URL:https://www.kambja.info/syndmus/joulutrall-pollumajandusmuuseumis/
LOCATION:MUHK – Maaelu uudishimukeskus / Eesti Põllumajandusmuuseum\, Pargi 4\, Ülenurme alevik\, Kambja vald\, Tartumaa\, 61714
CATEGORIES:Etendus,Kogukond,Koolitus,Laat/mess,Näitus,Pärimus,PT,Toit
ATTACH;FMTTYPE=image/jpeg:https://www.kambja.info/wp-content/uploads/2023/12/THUMB_joulutrall_EPM_16122023.jpg
ORGANIZER;CN="SA Eesti Maaelumuuseumid":MAILTO:info@maaelumuuseumid.ee
GEO:58.316518;26.7243
X-APPLE-STRUCTURED-LOCATION;VALUE=URI;X-ADDRESS=MUHK – Maaelu uudishimukeskus / Eesti Põllumajandusmuuseum Pargi 4 Ülenurme alevik Kambja vald Tartumaa 61714;X-APPLE-RADIUS=500;X-TITLE=Pargi 4:geo:26.7243,58.316518
END:VEVENT
END:VCALENDAR