BEGIN:VCALENDAR
VERSION:2.0
PRODID:-//Kambja Valla Sõnumid - ECPv6.15.20//NONSGML v1.0//EN
CALSCALE:GREGORIAN
METHOD:PUBLISH
X-WR-CALNAME:Kambja Valla Sõnumid
X-ORIGINAL-URL:https://www.kambja.info
X-WR-CALDESC:Events for Kambja Valla Sõnumid
REFRESH-INTERVAL;VALUE=DURATION:PT1H
X-Robots-Tag:noindex
X-PUBLISHED-TTL:PT1H
BEGIN:VTIMEZONE
TZID:Europe/Tallinn
BEGIN:DAYLIGHT
TZOFFSETFROM:+0200
TZOFFSETTO:+0300
TZNAME:EEST
DTSTART:20240331T010000
END:DAYLIGHT
BEGIN:STANDARD
TZOFFSETFROM:+0300
TZOFFSETTO:+0200
TZNAME:EET
DTSTART:20241027T010000
END:STANDARD
BEGIN:DAYLIGHT
TZOFFSETFROM:+0200
TZOFFSETTO:+0300
TZNAME:EEST
DTSTART:20250330T010000
END:DAYLIGHT
BEGIN:STANDARD
TZOFFSETFROM:+0300
TZOFFSETTO:+0200
TZNAME:EET
DTSTART:20251026T010000
END:STANDARD
BEGIN:DAYLIGHT
TZOFFSETFROM:+0200
TZOFFSETTO:+0300
TZNAME:EEST
DTSTART:20260329T010000
END:DAYLIGHT
BEGIN:STANDARD
TZOFFSETFROM:+0300
TZOFFSETTO:+0200
TZNAME:EET
DTSTART:20261025T010000
END:STANDARD
END:VTIMEZONE
BEGIN:VEVENT
DTSTART;TZID=Europe/Tallinn:20250503T120000
DTEND;TZID=Europe/Tallinn:20250503T150000
DTSTAMP:20260420T071050
CREATED:20250417T091204Z
LAST-MODIFIED:20250417T091204Z
UID:10039633-1746273600-1746284400@www.kambja.info
SUMMARY:Avastamispäev maaelu uudishimukeskuses
DESCRIPTION:Põllumajandusmuuseumi laudas on alates 24. aprillist avatud maaelu uudishimukeskus ehk MUHK\, mis pakub avastamis-\, uudistamis- ja tegutsemisrõõmu nii suurtele kui väikestele. \nMillest MUHK koosneb?\nI korrusel: \n\n UUS püsinäitus „Laudasümfoonia“\n UUS näitus „Sõnnik ja piim“\n UUS jäneste küla\n Farmiloomad MUHUs\n\nII korrusel: \nUuenenud Avatud hoidla – astu muuseumi varakambrisse! \nUUS „Veterinaari tuba“ – milline näeb välja loomahaigus? \n3. mail kutsume kõiki uue Muhu avastamispäevale\, kus jagub tegevusi nii suurtele kui ka väikestele.\n3. mail 12–15\nEesti Põllumajandusmuuseumis \nToimub kolm giidituuri: 12.30\, 13.30 ja 14.30\, kuhu saad\neelnevalt regiteerida siin  https://forms.office.com/e/hCNc9JMDFz \nEsmakordselt löövad tiivad lehvima ka lindude võimlemisklubi sulelised!\nToimub kolm rühmategevust: vuti võimlemine\, kukepoks ja tibutants! \nTäpne kava: \n\n12.00 Maaelu uudishimukeskuse avamine\n12.15 Lindude võimlemisklubi – Vuti võimlemine\n12.30 I giidituur\n13.15 Lindude võimlemisklubi – Kukepoks\n13.30 II giidituur\n14.15 Lindude võimlemisklubi – Tibutants\n14.30 III giidituur\n\nMuud tegevused: \n\nVankrisõidud poni Printsiga\nLõbusõidud nõukaaegse veoautoga GAZ-51\nLambatalle Jussikese juturing jäneste külas\nLasteala erinevate põnevate töötubade ja mängudega\nJa palju muid tegevusi…\n\nAvatud ka ülejäänud muuseum. \nSissepääs muuseumipiletiga: \nPilet 8 € \nSooduspääse 6 € (õpilane\, üliõpilane\, pensionär\, ITIC kaardi omanik) \nPerepääse 16 € (2 täiskasvanut ja 16.a ja nooremad lapsed) \nEesti lasterikaste perede perekaardi esitamisel perepääse 8 € \n  \nOle õige aeg kohal (12.00)\, sest pakume ka avamisepuhul torti\, mis on piiratud koguses. \nVõta kaasa pere ja sõbrad ning kohtume 3. mail muuseumis uue MUHU avamisel. \nSellest sündmusest pead sa lihtsalt osa saama!
URL:https://www.kambja.info/syndmus/avastamispaev-maaelu-uudishimukeskuses/
LOCATION:MUHK – Maaelu uudishimukeskus / Eesti Põllumajandusmuuseum\, Pargi 4\, Ülenurme alevik\, Kambja vald\, Tartumaa\, 61714
CATEGORIES:Näitus
ATTACH;FMTTYPE=image/webp:https://www.kambja.info/wp-content/uploads/2025/04/THUMB_MUHK_03052025_EPM.webp
ORGANIZER;CN="SA Eesti Maaelumuuseumid":MAILTO:info@maaelumuuseumid.ee
GEO:58.316518;26.7243
X-APPLE-STRUCTURED-LOCATION;VALUE=URI;X-ADDRESS=MUHK – Maaelu uudishimukeskus / Eesti Põllumajandusmuuseum Pargi 4 Ülenurme alevik Kambja vald Tartumaa 61714;X-APPLE-RADIUS=500;X-TITLE=Pargi 4:geo:26.7243,58.316518
END:VEVENT
BEGIN:VEVENT
DTSTART;TZID=Europe/Tallinn:20250517T180000
DTEND;TZID=Europe/Tallinn:20250517T230000
DTSTAMP:20260420T071050
CREATED:20250415T080203Z
LAST-MODIFIED:20250415T080203Z
UID:10039632-1747504800-1747522800@www.kambja.info
SUMMARY:Muuseumiöö põllumajandusmuuseumis
DESCRIPTION:Kord aastas\, laupäevasel maiõhtul avavad muuseumid ja teised mäluasutused oma uksed tavapärasest hilisemal ajal\, suisa tasuta\, et tähistada üle-euroopalist muuseumiööd. \nKas sul on veel “Peedist pesumasin: leidlikkus maal” näitus nägemata?! Muuseumiööl on see võimalus! Paneme välja huvitavaid nõukaaegseid raamatuid isetegemisest ja toonastest lifehack’idest. Tehnikaosas\, isevalmistatud masinate näitusel\, jagub uudistamist nii suurtele kui tegutsemist väikestele. \nKuidas on seotud raamatud ja toit? No loomulikult retseptiraamatute kaudu…. \nLeivatarest tuleb muuseumiööl imehead leivalõhna ja uurime Linda Petti retsepte ning kes teab\, võib-olla saame nende retseptide järgi valmistatud toitu mekkidagi. Müügil ka muuseumi käsitööleib (piiratud koguses). \nPõllumajandusmuuseumi maaelu uudishimukeskuse elusloomade osa on uudistajatele avatud ning meie loomad ootavad uusi sõpru. \nRaamatutest oleme aga leidnud vahvaid lugusid loomadest\, mida huvilistele rõõmuga pajatame. \nLoomakasvatajate juhendamisel saab nende hoolealustele süüa anda. Kõige väiksematele uudistajaele ponisõidud kell 18.30–19.30\, hind 5 €/sõitja. \nKus on aga hea raamatut lugeda?! Autosõidul…. Kui mugav on aga GAZ-51 kastis raamatut lugeda? Ah\, teinekord\, eriti kui sõit väga pikk pole\, võid ju sõidu ajal ümbritsevat nautida ning mõelda lugudele\, mida oled juba varem mõnest raamatust lugenud. Miks mitte mõnda põnevat lugu kaassõitjatega jagada või soovitada ühte “oi\, kui hea raamat”ut. \nPeatselt remonti minev peanäitusemaja on muuseumiööl avatud ja küll seal juba lugusid leiab. Ja üks rariteetne fotoalbum on justkui hea raamat\, kus igal pildil on oma lugu. Tule kuula krahv Fr. Bergi fotolugusid!
URL:https://www.kambja.info/syndmus/muuseumioo-pollumajandusmuuseumis/
LOCATION:MUHK – Maaelu uudishimukeskus / Eesti Põllumajandusmuuseum\, Pargi 4\, Ülenurme alevik\, Kambja vald\, Tartumaa\, 61714
CATEGORIES:Näitus
ATTACH;FMTTYPE=image/webp:https://www.kambja.info/wp-content/uploads/2025/04/THUMB_muuseumioo_EPM_05052025-c05124d57ccd98741bba6fc9f8ed7955.webp
ORGANIZER;CN="SA Eesti Maaelumuuseumid":MAILTO:info@maaelumuuseumid.ee
GEO:58.316518;26.7243
X-APPLE-STRUCTURED-LOCATION;VALUE=URI;X-ADDRESS=MUHK – Maaelu uudishimukeskus / Eesti Põllumajandusmuuseum Pargi 4 Ülenurme alevik Kambja vald Tartumaa 61714;X-APPLE-RADIUS=500;X-TITLE=Pargi 4:geo:26.7243,58.316518
END:VEVENT
END:VCALENDAR