BEGIN:VCALENDAR
VERSION:2.0
PRODID:-//Kambja Valla Sõnumid - ECPv6.15.20//NONSGML v1.0//EN
CALSCALE:GREGORIAN
METHOD:PUBLISH
X-ORIGINAL-URL:https://www.kambja.info
X-WR-CALDESC:Events for Kambja Valla Sõnumid
REFRESH-INTERVAL;VALUE=DURATION:PT1H
X-Robots-Tag:noindex
X-PUBLISHED-TTL:PT1H
BEGIN:VTIMEZONE
TZID:Europe/Tallinn
BEGIN:DAYLIGHT
TZOFFSETFROM:+0200
TZOFFSETTO:+0300
TZNAME:EEST
DTSTART:20240331T010000
END:DAYLIGHT
BEGIN:STANDARD
TZOFFSETFROM:+0300
TZOFFSETTO:+0200
TZNAME:EET
DTSTART:20241027T010000
END:STANDARD
BEGIN:DAYLIGHT
TZOFFSETFROM:+0200
TZOFFSETTO:+0300
TZNAME:EEST
DTSTART:20250330T010000
END:DAYLIGHT
BEGIN:STANDARD
TZOFFSETFROM:+0300
TZOFFSETTO:+0200
TZNAME:EET
DTSTART:20251026T010000
END:STANDARD
BEGIN:DAYLIGHT
TZOFFSETFROM:+0200
TZOFFSETTO:+0300
TZNAME:EEST
DTSTART:20260329T010000
END:DAYLIGHT
BEGIN:STANDARD
TZOFFSETFROM:+0300
TZOFFSETTO:+0200
TZNAME:EET
DTSTART:20261025T010000
END:STANDARD
END:VTIMEZONE
BEGIN:VEVENT
DTSTART;TZID=Europe/Tallinn:20250810T110000
DTEND;TZID=Europe/Tallinn:20250810T150000
DTSTAMP:20260421T114419
CREATED:20250702T083710Z
LAST-MODIFIED:20250702T083747Z
UID:10039663-1754823600-1754838000@www.kambja.info
SUMMARY:Rukkipäev
DESCRIPTION:Rukkipäev kutsub taas avastama leiva teekonda põllult lauale. \nMida oodata on?\nNäituse tutvustus: Rukkikrahv Berg 180 ja Sangaste Rukis 150 \nEhtsad eesti talutööd: rehepeks masinaga ja koodiga \nTöötoad leiva teemal \nAiamaa tutvustus aednikuga \nLeivakohvik Leivatares \nTegevusi veel aiamaal ja Peedist Pesumasina näitusel. \nMuidugi tõuseb ka Leivatares meeli hõrgutav leivalõhn. Oodatud on kõik vaatama\, proovima ja maitsma! \nSissepääs muuseumipiletiga. \nSündmus on osa Tartumaa toidupiirkond 2025 programmist. \n 
URL:https://www.kambja.info/syndmus/rukkipaev-2025/
LOCATION:Põllumajandusmuuseumi Leivatare\, Muuseumi tn 2/6\, Ülenurme\, Kambja vald\, Tartumaa\, 61714
CATEGORIES:Kogukond,Koolitus,Laat/mess,Näitus,Pärimus,PT,Toit
ATTACH;FMTTYPE=image/webp:https://www.kambja.info/wp-content/uploads/2025/07/THUMB_Rukkipaev_10082025_EPM.webp
ORGANIZER;CN="SA Eesti Maaelumuuseumid":MAILTO:info@maaelumuuseumid.ee
GEO:58.316955161492;26.725035662073
X-APPLE-STRUCTURED-LOCATION;VALUE=URI;X-ADDRESS=Põllumajandusmuuseumi Leivatare Muuseumi tn 2/6 Ülenurme Kambja vald Tartumaa 61714;X-APPLE-RADIUS=500;X-TITLE=Muuseumi tn 2/6:geo:26.725035662073,58.316955161492
END:VEVENT
BEGIN:VEVENT
DTSTART;TZID=Europe/Tallinn:20250815T183000
DTEND;TZID=Europe/Tallinn:20250815T230000
DTSTAMP:20260421T114419
CREATED:20250630T150744Z
LAST-MODIFIED:20250808T053902Z
UID:10039661-1755282600-1755298800@www.kambja.info
SUMMARY:Peedist Pesumasin suvesimman
DESCRIPTION:Üks korralik suvepidu on ikka eestlaste suve juurde kuulunud. Nõukaaegsest isetegemisest ja leiutamisest pajatav palju populaarsust kogunud Peedist pesumasina näitus on avatud veel viimaseid kuid ja seega on suvepidu just näitusest inspireeritud. \nHoidiste konkurss!\nVõta kaasa oma maitsvaim\, erilisem või huvitavaim hoidis. Sündmusel valib parima hoidise välja publik ja võitjale ka auhind! \n18.00 – Õhtu algab tuuriga näitusel. Algab hoidiste vastuvõtt konkursiks (lõppeb kell 19.00).\n19.00 – Nedsaja Küla Bänd kutsub jalga keerutama.\n19.30 – Hoidiste konkursi avamine\, degusteerimine\, ühismängud.\n19.40 – Tuur Peedist Pesumasin näitusel.\n20.30 – Nedsaja Küla Bänd taas laval.\n21.00 – Jätkub hoidiste konkurss ja rahvamängud.\n21.30 – Nedsaja Küla Bänd kutsub tantsule.\n22.00 – Kuulutatakse välja hoidiste konkursi võitja\, ühistegevused.\n22.20 – Viimane võimalus Nedsaja Küla Bändi muusikat nautida.\n23.00 – Pidu läbi. \nLisaks GAZ 51 sõidud\, vankrisõidud ja „Minu Tartumaa vanaema retseptid“ konkursi võiduretseptide esitlemine. \nSissepääs peole 10 eurot. \nPilet osta Fientast või kohapealt … \nTule naudi mõnusat suvepidu! \nSündmus on osa Tartumaa toidupiirkond 2025 programmist.
URL:https://www.kambja.info/syndmus/peedist-pesumasin-suvesimman/
LOCATION:MUHK – Maaelu uudishimukeskus / Eesti Põllumajandusmuuseum\, Pargi 4\, Ülenurme alevik\, Kambja vald\, Tartumaa\, 61714
CATEGORIES:Muusika,Näitus,Pärimus,Pidu,PT,Toit
ATTACH;FMTTYPE=image/webp:https://www.kambja.info/wp-content/uploads/2025/06/THUMB_peedist_pesumasin_suvesimman_15082025.webp
ORGANIZER;CN="SA Eesti Maaelumuuseumid":MAILTO:info@maaelumuuseumid.ee
GEO:58.316518;26.7243
X-APPLE-STRUCTURED-LOCATION;VALUE=URI;X-ADDRESS=MUHK – Maaelu uudishimukeskus / Eesti Põllumajandusmuuseum Pargi 4 Ülenurme alevik Kambja vald Tartumaa 61714;X-APPLE-RADIUS=500;X-TITLE=Pargi 4:geo:26.7243,58.316518
END:VEVENT
BEGIN:VEVENT
DTSTART;TZID=Europe/Tallinn:20250830T170000
DTEND;TZID=Europe/Tallinn:20250830T170000
DTSTAMP:20260421T114419
CREATED:20250602T103549Z
LAST-MODIFIED:20250616T114253Z
UID:10039653-1756573200-1756573200@www.kambja.info
SUMMARY:Muinastulede öö
DESCRIPTION:Mandoterror\nZerkaļa tuleteater\nLaat ja õpitoad\nÕteksed\nTuleskulptuur järvel\n\nPilet 10.- \nLastele TASUTA
URL:https://www.kambja.info/syndmus/muinastulede-oo-2025/
LOCATION:Unipiha kool\, Unipiha algkool\, Pangodi küla\, Kambja vald\, Tartumaa\, 62017
CATEGORIES:Etendus,Kogukond,Laat/mess,Muusika,Näitus,Pärimus,PT
ATTACH;FMTTYPE=image/jpeg:https://www.kambja.info/wp-content/uploads/2024/06/THUMB_Muinastulede_oo.jpg
ORGANIZER;CN="Kontaktisik%3A Lichettey Aavik":MAILTO:aavik@aaviktekstiil.ee
GEO:58.200857;26.583741
X-APPLE-STRUCTURED-LOCATION;VALUE=URI;X-ADDRESS=Unipiha kool Unipiha algkool Pangodi küla Kambja vald Tartumaa 62017;X-APPLE-RADIUS=500;X-TITLE=Unipiha algkool:geo:26.583741,58.200857
END:VEVENT
END:VCALENDAR