BEGIN:VCALENDAR
VERSION:2.0
PRODID:-//Kambja Valla Sõnumid - ECPv6.15.20//NONSGML v1.0//EN
CALSCALE:GREGORIAN
METHOD:PUBLISH
X-WR-CALNAME:Kambja Valla Sõnumid
X-ORIGINAL-URL:https://www.kambja.info
X-WR-CALDESC:Events for Kambja Valla Sõnumid
REFRESH-INTERVAL;VALUE=DURATION:PT1H
X-Robots-Tag:noindex
X-PUBLISHED-TTL:PT1H
BEGIN:VTIMEZONE
TZID:Europe/Tallinn
BEGIN:DAYLIGHT
TZOFFSETFROM:+0200
TZOFFSETTO:+0300
TZNAME:EEST
DTSTART:20200329T010000
END:DAYLIGHT
BEGIN:STANDARD
TZOFFSETFROM:+0300
TZOFFSETTO:+0200
TZNAME:EET
DTSTART:20201025T010000
END:STANDARD
BEGIN:DAYLIGHT
TZOFFSETFROM:+0200
TZOFFSETTO:+0300
TZNAME:EEST
DTSTART:20210328T010000
END:DAYLIGHT
BEGIN:STANDARD
TZOFFSETFROM:+0300
TZOFFSETTO:+0200
TZNAME:EET
DTSTART:20211031T010000
END:STANDARD
BEGIN:DAYLIGHT
TZOFFSETFROM:+0200
TZOFFSETTO:+0300
TZNAME:EEST
DTSTART:20220327T010000
END:DAYLIGHT
BEGIN:STANDARD
TZOFFSETFROM:+0300
TZOFFSETTO:+0200
TZNAME:EET
DTSTART:20221030T010000
END:STANDARD
END:VTIMEZONE
BEGIN:VEVENT
DTSTART;TZID=Europe/Tallinn:20210717T110000
DTEND;TZID=Europe/Tallinn:20210717T150000
DTSTAMP:20260423T124853
CREATED:20210712T115317Z
LAST-MODIFIED:20210712T115317Z
UID:10008488-1626519600-1626534000@www.kambja.info
SUMMARY:Itaalia päev
DESCRIPTION:Itaalia tundub alati põnev ja avastamist väärt maa. Nüüd tuleb killuke sellest kaunist maast ja huvitavast kultuurist meile 17. juulil külla. \n11 – 15 Itaalia toitude valmistamine\, külas Jack Rebussi \n11.30 – 13 vahariide tegemine \n13 – 14 riidest kottide maalimine \n11 – 13 ponisõidud (kui ilm võimaldab) \n13.30 – 14.30 jänkude jalutamine \nSissepääs muuseumipiletiga: täiskasvanu 5 €\, õpilane/üliõpilane/pensionär 3 €\, perepilet 10 € \nProgrammis võib ette tulla muudatusi! \nKohtume põneval Itaalia päeval.
URL:https://www.kambja.info/syndmus/itaalia-paev/
LOCATION:MUHK – Maaelu uudishimukeskus / Eesti Põllumajandusmuuseum\, Pargi 4\, Ülenurme alevik\, Kambja vald\, Tartumaa\, 61714
CATEGORIES:Koolitus,Näitus
ATTACH;FMTTYPE=image/jpeg:https://www.kambja.info/wp-content/uploads/2021/07/itaalia_paev_sq.jpg
ORGANIZER;CN="SA Eesti Maaelumuuseumid":MAILTO:info@maaelumuuseumid.ee
GEO:58.316518;26.7243
X-APPLE-STRUCTURED-LOCATION;VALUE=URI;X-ADDRESS=MUHK – Maaelu uudishimukeskus / Eesti Põllumajandusmuuseum Pargi 4 Ülenurme alevik Kambja vald Tartumaa 61714;X-APPLE-RADIUS=500;X-TITLE=Pargi 4:geo:26.7243,58.316518
END:VEVENT
END:VCALENDAR