BEGIN:VCALENDAR
VERSION:2.0
PRODID:-//Kambja Valla Sõnumid - ECPv6.15.20//NONSGML v1.0//EN
CALSCALE:GREGORIAN
METHOD:PUBLISH
X-ORIGINAL-URL:https://www.kambja.info
X-WR-CALDESC:Events for Kambja Valla Sõnumid
REFRESH-INTERVAL;VALUE=DURATION:PT1H
X-Robots-Tag:noindex
X-PUBLISHED-TTL:PT1H
BEGIN:VTIMEZONE
TZID:Europe/Tallinn
BEGIN:DAYLIGHT
TZOFFSETFROM:+0200
TZOFFSETTO:+0300
TZNAME:EEST
DTSTART:20200329T010000
END:DAYLIGHT
BEGIN:STANDARD
TZOFFSETFROM:+0300
TZOFFSETTO:+0200
TZNAME:EET
DTSTART:20201025T010000
END:STANDARD
BEGIN:DAYLIGHT
TZOFFSETFROM:+0200
TZOFFSETTO:+0300
TZNAME:EEST
DTSTART:20210328T010000
END:DAYLIGHT
BEGIN:STANDARD
TZOFFSETFROM:+0300
TZOFFSETTO:+0200
TZNAME:EET
DTSTART:20211031T010000
END:STANDARD
BEGIN:DAYLIGHT
TZOFFSETFROM:+0200
TZOFFSETTO:+0300
TZNAME:EEST
DTSTART:20220327T010000
END:DAYLIGHT
BEGIN:STANDARD
TZOFFSETFROM:+0300
TZOFFSETTO:+0200
TZNAME:EET
DTSTART:20221030T010000
END:STANDARD
BEGIN:DAYLIGHT
TZOFFSETFROM:+0200
TZOFFSETTO:+0300
TZNAME:EEST
DTSTART:20230326T010000
END:DAYLIGHT
BEGIN:STANDARD
TZOFFSETFROM:+0300
TZOFFSETTO:+0200
TZNAME:EET
DTSTART:20231029T010000
END:STANDARD
END:VTIMEZONE
BEGIN:VEVENT
DTSTART;VALUE=DATE:20211201
DTEND;VALUE=DATE:20220102
DTSTAMP:20260423T055747
CREATED:20211129T144335Z
LAST-MODIFIED:20211129T144335Z
UID:10008538-1638338400-1641016799@www.kambja.info
SUMMARY:Maalinäitus | Aime Uibokand
DESCRIPTION:Avatud ringide töö ja ürituste ajal. Muul ajal helistada tel 5309 9523.
URL:https://www.kambja.info/syndmus/maalinaitus-aime-uibokand/
LOCATION:Kambja kultuurikeskus\, Kesk 12\, Kambja\, Kambja vald\, Tartumaa\, 62034
CATEGORIES:Näitus
ATTACH;FMTTYPE=image/jpeg:https://www.kambja.info/wp-content/uploads/2021/11/PALAKAT_naitus-Aime-Uibokand-122021_KAKUKE_1_71_thumb.jpg
GEO:58.236067475094;26.70260166293
X-APPLE-STRUCTURED-LOCATION;VALUE=URI;X-ADDRESS=Kambja kultuurikeskus Kesk 12 Kambja Kambja vald Tartumaa 62034;X-APPLE-RADIUS=500;X-TITLE=Kesk 12:geo:26.70260166293,58.236067475094
END:VEVENT
BEGIN:VEVENT
DTSTART;TZID=Europe/Tallinn:20211218T120000
DTEND;TZID=Europe/Tallinn:20211218T180000
DTSTAMP:20260423T055747
CREATED:20211210T204821Z
LAST-MODIFIED:20211210T204821Z
UID:10008563-1639828800-1639850400@www.kambja.info
SUMMARY:Jõulukingid Ülenurme käsitöömeistritelt
DESCRIPTION:Sokke-kindaid\, heegeldatud-kootud mänguasju\, vilditud saunamütse\, prosse ja õhulisi villahaldjaid\, ehteid ja helkureid\, pajakindaid\, mõnusalt pehmeid salle\, vaipu ja veel nii mõndagi näputöömeistrite nikerdatut. \nKinkides oma kallitele koduvallas valminud käsitööd\, teed rõõmu ka kodukoha käsitöötegijatele! \nSeltsiruumi uks on kõigile huvilistele avatud 11.-12. ja 18.-19. detsembril kell 12.00 – 18.00. \nMuudel aegadel palun helistage telefonil 5562 8457 või saatke meil aadressile maire.henno@yle.edu.ee – vahetame infot\, lepime kokku kohtumisaja\, mil ülenurmelaste käsitöid vaatama-valima tulla!
URL:https://www.kambja.info/syndmus/joulukingid-ulenurme-kasitoomeistritelt/2021-12-18/
LOCATION:Kambja vald\, Tartumaa
CATEGORIES:Laat/mess,Näitus
ATTACH;FMTTYPE=image/jpeg:https://www.kambja.info/wp-content/uploads/2021/12/fa538dd734b91a3fa875824782e230e6.jpg
END:VEVENT
BEGIN:VEVENT
DTSTART;TZID=Europe/Tallinn:20211219T120000
DTEND;TZID=Europe/Tallinn:20211219T180000
DTSTAMP:20260423T055747
CREATED:20211210T204821Z
LAST-MODIFIED:20211210T204821Z
UID:10008564-1639915200-1639936800@www.kambja.info
SUMMARY:Jõulukingid Ülenurme käsitöömeistritelt
DESCRIPTION:Sokke-kindaid\, heegeldatud-kootud mänguasju\, vilditud saunamütse\, prosse ja õhulisi villahaldjaid\, ehteid ja helkureid\, pajakindaid\, mõnusalt pehmeid salle\, vaipu ja veel nii mõndagi näputöömeistrite nikerdatut. \nKinkides oma kallitele koduvallas valminud käsitööd\, teed rõõmu ka kodukoha käsitöötegijatele! \nSeltsiruumi uks on kõigile huvilistele avatud 11.-12. ja 18.-19. detsembril kell 12.00 – 18.00. \nMuudel aegadel palun helistage telefonil 5562 8457 või saatke meil aadressile maire.henno@yle.edu.ee – vahetame infot\, lepime kokku kohtumisaja\, mil ülenurmelaste käsitöid vaatama-valima tulla!
URL:https://www.kambja.info/syndmus/joulukingid-ulenurme-kasitoomeistritelt/2021-12-19/
LOCATION:Kambja vald\, Tartumaa
CATEGORIES:Laat/mess,Näitus
ATTACH;FMTTYPE=image/jpeg:https://www.kambja.info/wp-content/uploads/2021/12/fa538dd734b91a3fa875824782e230e6.jpg
END:VEVENT
END:VCALENDAR