BEGIN:VCALENDAR
VERSION:2.0
PRODID:-//Kambja Valla Sõnumid - ECPv6.15.20//NONSGML v1.0//EN
CALSCALE:GREGORIAN
METHOD:PUBLISH
X-ORIGINAL-URL:https://www.kambja.info
X-WR-CALDESC:Events for Kambja Valla Sõnumid
REFRESH-INTERVAL;VALUE=DURATION:PT1H
X-Robots-Tag:noindex
X-PUBLISHED-TTL:PT1H
BEGIN:VTIMEZONE
TZID:Europe/Tallinn
BEGIN:DAYLIGHT
TZOFFSETFROM:+0200
TZOFFSETTO:+0300
TZNAME:EEST
DTSTART:20210328T010000
END:DAYLIGHT
BEGIN:STANDARD
TZOFFSETFROM:+0300
TZOFFSETTO:+0200
TZNAME:EET
DTSTART:20211031T010000
END:STANDARD
BEGIN:DAYLIGHT
TZOFFSETFROM:+0200
TZOFFSETTO:+0300
TZNAME:EEST
DTSTART:20220327T010000
END:DAYLIGHT
BEGIN:STANDARD
TZOFFSETFROM:+0300
TZOFFSETTO:+0200
TZNAME:EET
DTSTART:20221030T010000
END:STANDARD
BEGIN:DAYLIGHT
TZOFFSETFROM:+0200
TZOFFSETTO:+0300
TZNAME:EEST
DTSTART:20230326T010000
END:DAYLIGHT
BEGIN:STANDARD
TZOFFSETFROM:+0300
TZOFFSETTO:+0200
TZNAME:EET
DTSTART:20231029T010000
END:STANDARD
END:VTIMEZONE
BEGIN:VEVENT
DTSTART;TZID=Europe/Tallinn:20220130T110000
DTEND;TZID=Europe/Tallinn:20220130T130000
DTSTAMP:20260423T005855
CREATED:20220127T125244Z
LAST-MODIFIED:20220127T125244Z
UID:10008570-1643540400-1643547600@www.kambja.info
SUMMARY:Täiendatud tehnikaväljaku avapauk
DESCRIPTION:Põllumajandusmuuseumi uhke tehnikapark on saanud olulise täienduse – tehnika täpsemad kirjeldused\, päritolu ja muu oluline info on suurelt välja pandud ning loodud on põnev tehnika (ja näituste ning mõisasüdame) audiogiid. \n30. jaanuaril kell 11 kutsume kõiki suuri ja väikesed tehnikahuvilisi täiendatud tehnikaväljaku avapaugule. Saab uudistada ja avastada\, nii ühiselt kui isekeskis. \nKülma trotsimiseks pakume sooja teed! \nAvamisüritus tasuta! \nKell 13 toimub traktorimudelite loosimine. Auhinnad on välja pannud mudelikogu omanik Janek Kalinin koos koostööpartneritega. Loosimises osalevad kõik\, kes on ostnud muuseumipileti ja vastanud mõnedele mudelinäitust puudutavatele küsimustele. 30. jaanuaril on sul võimalus mudelinäitusel käia ja võib-olla on fortuuna just sinu poolt! \nKohtume tehnika vahel!
URL:https://www.kambja.info/syndmus/taiendatud-tehnikavaljaku-avapauk/
LOCATION:MUHK – Maaelu uudishimukeskus / Eesti Põllumajandusmuuseum\, Pargi 4\, Ülenurme alevik\, Kambja vald\, Tartumaa\, 61714
CATEGORIES:Näitus
ATTACH;FMTTYPE=image/jpeg:https://www.kambja.info/wp-content/uploads/2022/01/THUMB360_taeind_tehnikavaljaku_avapauk_EPM_30012022.jpg
ORGANIZER;CN="SA Eesti Maaelumuuseumid":MAILTO:info@maaelumuuseumid.ee
GEO:58.316518;26.7243
X-APPLE-STRUCTURED-LOCATION;VALUE=URI;X-ADDRESS=MUHK – Maaelu uudishimukeskus / Eesti Põllumajandusmuuseum Pargi 4 Ülenurme alevik Kambja vald Tartumaa 61714;X-APPLE-RADIUS=500;X-TITLE=Pargi 4:geo:26.7243,58.316518
END:VEVENT
END:VCALENDAR