BEGIN:VCALENDAR
VERSION:2.0
PRODID:-//Kambja Valla Sõnumid - ECPv6.15.20//NONSGML v1.0//EN
CALSCALE:GREGORIAN
METHOD:PUBLISH
X-ORIGINAL-URL:https://www.kambja.info
X-WR-CALDESC:Events for Kambja Valla Sõnumid
REFRESH-INTERVAL;VALUE=DURATION:PT1H
X-Robots-Tag:noindex
X-PUBLISHED-TTL:PT1H
BEGIN:VTIMEZONE
TZID:Europe/Tallinn
BEGIN:DAYLIGHT
TZOFFSETFROM:+0200
TZOFFSETTO:+0300
TZNAME:EEST
DTSTART:20210328T010000
END:DAYLIGHT
BEGIN:STANDARD
TZOFFSETFROM:+0300
TZOFFSETTO:+0200
TZNAME:EET
DTSTART:20211031T010000
END:STANDARD
BEGIN:DAYLIGHT
TZOFFSETFROM:+0200
TZOFFSETTO:+0300
TZNAME:EEST
DTSTART:20220327T010000
END:DAYLIGHT
BEGIN:STANDARD
TZOFFSETFROM:+0300
TZOFFSETTO:+0200
TZNAME:EET
DTSTART:20221030T010000
END:STANDARD
BEGIN:DAYLIGHT
TZOFFSETFROM:+0200
TZOFFSETTO:+0300
TZNAME:EEST
DTSTART:20230326T010000
END:DAYLIGHT
BEGIN:STANDARD
TZOFFSETFROM:+0300
TZOFFSETTO:+0200
TZNAME:EET
DTSTART:20231029T010000
END:STANDARD
END:VTIMEZONE
BEGIN:VEVENT
DTSTART;TZID=Europe/Tallinn:20220416T110000
DTEND;TZID=Europe/Tallinn:20220416T140000
DTSTAMP:20260422T215304
CREATED:20220411T105037Z
LAST-MODIFIED:20220411T105037Z
UID:10008589-1650106800-1650117600@www.kambja.info
SUMMARY:Munapühatrall ja minitraktorite näituse lõpupidu
DESCRIPTION:Mida ühist on traktoritel ja munadel?\nPõllumajandusmuuseumi lihavõttetrall tähistab ühtlasi väga menuka minitraktorite näituse pidulikku lõppu. Tähelepanu saavad nii traktorid kui munad. \nVeel viimaseid päevi on võimalik uudistada 438 põllutöömasinate mudelit Janek Kalinini 1000-esemelisest kogust\, enamik neist haruldased\, kollektsionääridele mõeldud eksemplarid.\nJätkates toredat traditsiooni\, loosime Janeki abil ka näituse viimasel päeval kuni 16. aprillini väikese ankeedi täitnud külaliste vahel välja mitu põnevat traktorimudelit. \nMängime erinevaid munamänge\, värvime mune\, lustime. võistleme. Soodsate ilmaolude korral küpsetame koos lõkkepannkooke. Vahvat tegevust jagub tervele perele. \nKell 11-14\n– Munade värvimine\n– Munakeegel\n– Munade veeretamine\n– Munade takistusrada\n– Munade otsimine\n– Lõkkepannkookide küpsetamine \nKell 12\n– Traktorimudelite omaniku Janek Kalinin räägib oma kogust\, kogumisest ja põnevatest mudelitest. \nKell 13-14\n– Ponisõidud\, 5 €/sõit. \nKell 14\n– Traktorimudelite loosimine \nPilet: täiskasvanu 6 €\, õpilane/üliõpilane/pensionär 4 €\, perepilet 12 €
URL:https://www.kambja.info/syndmus/munapuhatrall-ja-minitraktorite-naituse-lopupidu/
LOCATION:MUHK – Maaelu uudishimukeskus / Eesti Põllumajandusmuuseum\, Pargi 4\, Ülenurme alevik\, Kambja vald\, Tartumaa\, 61714
CATEGORIES:Kogukond,Koolitus,Näitus,Pärimus
ATTACH;FMTTYPE=image/jpeg:https://www.kambja.info/wp-content/uploads/2022/04/THUMB_360px_EPM-munapuha_16042022.jpg
ORGANIZER;CN="SA Eesti Maaelumuuseumid":MAILTO:info@maaelumuuseumid.ee
GEO:58.316518;26.7243
X-APPLE-STRUCTURED-LOCATION;VALUE=URI;X-ADDRESS=MUHK – Maaelu uudishimukeskus / Eesti Põllumajandusmuuseum Pargi 4 Ülenurme alevik Kambja vald Tartumaa 61714;X-APPLE-RADIUS=500;X-TITLE=Pargi 4:geo:26.7243,58.316518
END:VEVENT
END:VCALENDAR