BEGIN:VCALENDAR
VERSION:2.0
PRODID:-//Kambja Valla Sõnumid - ECPv6.15.20//NONSGML v1.0//EN
CALSCALE:GREGORIAN
METHOD:PUBLISH
X-WR-CALNAME:Kambja Valla Sõnumid
X-ORIGINAL-URL:https://www.kambja.info
X-WR-CALDESC:Events for Kambja Valla Sõnumid
REFRESH-INTERVAL;VALUE=DURATION:PT1H
X-Robots-Tag:noindex
X-PUBLISHED-TTL:PT1H
BEGIN:VTIMEZONE
TZID:Europe/Tallinn
BEGIN:DAYLIGHT
TZOFFSETFROM:+0200
TZOFFSETTO:+0300
TZNAME:EEST
DTSTART:20220327T010000
END:DAYLIGHT
BEGIN:STANDARD
TZOFFSETFROM:+0300
TZOFFSETTO:+0200
TZNAME:EET
DTSTART:20221030T010000
END:STANDARD
BEGIN:DAYLIGHT
TZOFFSETFROM:+0200
TZOFFSETTO:+0300
TZNAME:EEST
DTSTART:20230326T010000
END:DAYLIGHT
BEGIN:STANDARD
TZOFFSETFROM:+0300
TZOFFSETTO:+0200
TZNAME:EET
DTSTART:20231029T010000
END:STANDARD
BEGIN:DAYLIGHT
TZOFFSETFROM:+0200
TZOFFSETTO:+0300
TZNAME:EEST
DTSTART:20240331T010000
END:DAYLIGHT
BEGIN:STANDARD
TZOFFSETFROM:+0300
TZOFFSETTO:+0200
TZNAME:EET
DTSTART:20241027T010000
END:STANDARD
END:VTIMEZONE
BEGIN:VEVENT
DTSTART;VALUE=DATE:20230522
DTEND;VALUE=DATE:20230602
DTSTAMP:20260421T225758
CREATED:20230519T092837Z
LAST-MODIFIED:20230519T092837Z
UID:10009447-1684735200-1685599199@www.kambja.info
SUMMARY:Rändnäitus „Pärand elab“
DESCRIPTION:Näitus “Pärand elab!” kutsub märkama ja väärtustama vaimset pärandit meie ümber\, tutvustades neljateistkümmet kultuuriilmingut Eesti vaimse kultuuripärandi nimistust. Igaüks neist on oma kogukonna\, oma inimeste jaoks armas ja tähtis. Näitusel on võimalik mõtiskleda nende aarete üle\, mille oleme ise oma esivanematelt pärinud ning tutvuda ka selle osaga kultuuripärandist\, mis on meie kaasmaalastele südamelähedane. \nReola kultuurimaja uksed on näituse uudistamiseks avatud tööpäeviti kell 11.-15.00\, muul ajal helista tel 5309 9523 (Saidi) ja lepi aeg kokku. \nVeel näitusest \nOled oodatud!
URL:https://www.kambja.info/syndmus/randnaitus-parand-elab/
LOCATION:Reola kultuurimaja\, Valge tee 1\, Uhti küla\, Kambja vald\, Tartumaa\, 61712
CATEGORIES:Näitus
ATTACH;FMTTYPE=image/jpeg:https://www.kambja.info/wp-content/uploads/2023/05/parand_elab_thumb.jpg
GEO:58.285495;26.713672
X-APPLE-STRUCTURED-LOCATION;VALUE=URI;X-ADDRESS=Reola kultuurimaja Valge tee 1 Uhti küla Kambja vald Tartumaa 61712;X-APPLE-RADIUS=500;X-TITLE=Valge tee 1:geo:26.713672,58.285495
END:VEVENT
END:VCALENDAR