BEGIN:VCALENDAR
VERSION:2.0
PRODID:-//Kambja Valla Sõnumid - ECPv6.15.20//NONSGML v1.0//EN
CALSCALE:GREGORIAN
METHOD:PUBLISH
X-ORIGINAL-URL:https://www.kambja.info
X-WR-CALDESC:Events for Kambja Valla Sõnumid
REFRESH-INTERVAL;VALUE=DURATION:PT1H
X-Robots-Tag:noindex
X-PUBLISHED-TTL:PT1H
BEGIN:VTIMEZONE
TZID:Europe/Tallinn
BEGIN:DAYLIGHT
TZOFFSETFROM:+0200
TZOFFSETTO:+0300
TZNAME:EEST
DTSTART:20220327T010000
END:DAYLIGHT
BEGIN:STANDARD
TZOFFSETFROM:+0300
TZOFFSETTO:+0200
TZNAME:EET
DTSTART:20221030T010000
END:STANDARD
BEGIN:DAYLIGHT
TZOFFSETFROM:+0200
TZOFFSETTO:+0300
TZNAME:EEST
DTSTART:20230326T010000
END:DAYLIGHT
BEGIN:STANDARD
TZOFFSETFROM:+0300
TZOFFSETTO:+0200
TZNAME:EET
DTSTART:20231029T010000
END:STANDARD
BEGIN:DAYLIGHT
TZOFFSETFROM:+0200
TZOFFSETTO:+0300
TZNAME:EEST
DTSTART:20240331T010000
END:DAYLIGHT
BEGIN:STANDARD
TZOFFSETFROM:+0300
TZOFFSETTO:+0200
TZNAME:EET
DTSTART:20241027T010000
END:STANDARD
END:VTIMEZONE
BEGIN:VEVENT
DTSTART;VALUE=DATE:20230705
DTEND;VALUE=DATE:20230804
DTSTAMP:20260421T211337
CREATED:20230706T100923Z
LAST-MODIFIED:20230706T100923Z
UID:10009476-1688536800-1691042399@www.kambja.info
SUMMARY:Elle Metsa fotonäitus „Imeline Island“
DESCRIPTION:
URL:https://www.kambja.info/syndmus/elle-metsa-fotonaitus-imeline-island/
LOCATION:Kambja vald\, Tartumaa
CATEGORIES:Näitus
ATTACH;FMTTYPE=image/jpeg:https://www.kambja.info/wp-content/uploads/2023/07/PLAKAT_islandi_anitus_2023_Trvndi_rmtk.jpg
ORGANIZER;CN="T%C3%B5rvandi raamatukogu":MAILTO:raamatukogu@torvandi.ee
END:VEVENT
BEGIN:VEVENT
DTSTART;TZID=Europe/Tallinn:20230708T100000
DTEND;TZID=Europe/Tallinn:20230812T184000
DTSTAMP:20260421T211337
CREATED:20230630T101955Z
LAST-MODIFIED:20230710T121635Z
UID:10009473-1688810400-1691865600@www.kambja.info
SUMMARY:Külastusmäng „Unustatud mõisad“
DESCRIPTION:08.07 – 09.07.2023\n29.07 – 30.07.2023\n12.08.2023. \nMõisad avatud 10.00 kuni 18.40. \nIgal täistunnil mõisates giidiga jalutuskäik (ca 30min)\, avatud improviseeritud kohvik\, saadaval tutvustav jaotusmaterjal\, mõisa infostend\, “tere tulemast” vastuvõtt.\nLisaks korraldatakse koostöös kogukonnaga vastavalt mõisa võimalustele mõisate eripära rõhutamiseks kontserte\, töötubasid ja muud huvitavat. \nVana-Kuuste mõis ootab taas külla!\nTulge tutvuma meie äsjarenoveeritud kauni härrastemajaga\, siin elanud-toimetanud\naadliperekondadega ja praeguse Kuuste mõisakooli kujunemislooga.\nLahke Vana-Kuuste naisseltsi pere kostitab maitsva mõisakoogi ja kohviga ning esitleb\noma kaunist käsitöönäitust. \nUhke mõisapargi iidsete puude all pakub Kuuste meesseltsi eestvedamisel toekamat kõhutäidet Mõisagrill ning lapsed saavad kaasa lüüa põnevates töötubades\, mida korraldab Kuuste pere- ja noortekeskus. Lapsed – ja miks mitte ka täiskasvanud – saavad liikumisaasta vaimus keha virgutada välijõusaalis. Pisematele pereliikmetele on avatud ka lasteaia mänguväljak. \n9. juulil kell 15.00 saame nautida saksa kammermuusikat\, mida esitavad Niklas Schröder (tšello\, Saksamaa) ja Tiit Tomp (klaver). Kavas: Brahms jt. \n29. juulil perepäev ja Henri Aruküla kontsert \n30. juulil kell 12.00 leiab aset armas perekondlik viiulikontsert\, kus esinevad Vanemuise sümfooniaorkestri viiuldajad Silja ja Vlad Campean. \nTule ja tunnusta oma külaskäiguga meie kogukonda! \nTeised mõisad leiab: http://www.moisakoolid.ee \nKülastustasud 2023:\nPered: 10.00 EUR\nTäiskasvanu 7.00 EUR\nÕpilased\, pensionärid 2.00 EUR\nGrupid alates 15 inimest kokkuleppel \n„Unustatud mõisad“ Vana-Kuuste mõisapargis koos Henri Arukülaga
URL:https://www.kambja.info/syndmus/kulastusmang-unustatud-moisad/
LOCATION:Kuuste koolimaja\, Kooli tee 2\, Vana-Kuuste\, Kambja vald\, Tartumaa\, Eesti
CATEGORIES:Koolitus,Muusika,Näitus
ATTACH;FMTTYPE=image/jpeg:https://www.kambja.info/wp-content/uploads/2023/06/kuuste_koolimaja_mois_thumb.jpg
ORGANIZER;CN="Kontaktisik%3A Kaido Mark":MAILTO:kaido.mark@kuuste.edu.ee
GEO:58.252917;26.78236
X-APPLE-STRUCTURED-LOCATION;VALUE=URI;X-ADDRESS=Kuuste koolimaja Kooli tee 2 Vana-Kuuste Kambja vald Tartumaa Eesti;X-APPLE-RADIUS=500;X-TITLE=Kooli tee 2:geo:26.78236,58.252917
END:VEVENT
END:VCALENDAR