BEGIN:VCALENDAR
VERSION:2.0
PRODID:-//Kambja Valla Sõnumid - ECPv6.15.20//NONSGML v1.0//EN
CALSCALE:GREGORIAN
METHOD:PUBLISH
X-ORIGINAL-URL:https://www.kambja.info
X-WR-CALDESC:Events for Kambja Valla Sõnumid
REFRESH-INTERVAL;VALUE=DURATION:PT1H
X-Robots-Tag:noindex
X-PUBLISHED-TTL:PT1H
BEGIN:VTIMEZONE
TZID:Europe/Tallinn
BEGIN:DAYLIGHT
TZOFFSETFROM:+0200
TZOFFSETTO:+0300
TZNAME:EEST
DTSTART:20220327T010000
END:DAYLIGHT
BEGIN:STANDARD
TZOFFSETFROM:+0300
TZOFFSETTO:+0200
TZNAME:EET
DTSTART:20221030T010000
END:STANDARD
BEGIN:DAYLIGHT
TZOFFSETFROM:+0200
TZOFFSETTO:+0300
TZNAME:EEST
DTSTART:20230326T010000
END:DAYLIGHT
BEGIN:STANDARD
TZOFFSETFROM:+0300
TZOFFSETTO:+0200
TZNAME:EET
DTSTART:20231029T010000
END:STANDARD
BEGIN:DAYLIGHT
TZOFFSETFROM:+0200
TZOFFSETTO:+0300
TZNAME:EEST
DTSTART:20240331T010000
END:DAYLIGHT
BEGIN:STANDARD
TZOFFSETFROM:+0300
TZOFFSETTO:+0200
TZNAME:EET
DTSTART:20241027T010000
END:STANDARD
END:VTIMEZONE
BEGIN:VEVENT
DTSTART;VALUE=DATE:20230801
DTEND;VALUE=DATE:20231003
DTSTAMP:20260421T175535
CREATED:20230605T090311Z
LAST-MODIFIED:20230911T134119Z
UID:10009459-1690869600-1696226399@www.kambja.info
SUMMARY:Koch Maire maalide näitus-müük
DESCRIPTION:Näitus Kambja kultuurikeskuses ja Reola kultuurimajas on avatud ringide töö ja ürituste ajal. Muul ajal helista 5309 9523 Saidi.
URL:https://www.kambja.info/syndmus/koch-maire-maalide-naitus-muuk/
LOCATION:Reola kultuurimaja\, Valge tee 1\, Uhti küla\, Kambja vald\, Tartumaa\, 61712
CATEGORIES:Näitus
ATTACH;FMTTYPE=image/jpeg:https://www.kambja.info/wp-content/uploads/2023/06/Maire_Koch_maalinaitus_KAKUKE_REKU_2023_thumb.jpg
GEO:58.285495;26.713672
X-APPLE-STRUCTURED-LOCATION;VALUE=URI;X-ADDRESS=Reola kultuurimaja Valge tee 1 Uhti küla Kambja vald Tartumaa 61712;X-APPLE-RADIUS=500;X-TITLE=Valge tee 1:geo:26.713672,58.285495
END:VEVENT
BEGIN:VEVENT
DTSTART;TZID=Europe/Tallinn:20230910T110000
DTEND;TZID=Europe/Tallinn:20230910T140000
DTSTAMP:20260421T175535
CREATED:20230605T115227Z
LAST-MODIFIED:20230908T103434Z
UID:10009463-1694343600-1694354400@www.kambja.info
SUMMARY:Sügislaat ja hoidiste konkurss jääb ära!
DESCRIPTION:SÜNDMUST EI TOIMU!Osalejate vähesuse tõttu laata ja näitust ei toimu!\nKeskuse parklas sügislaat. \nKeskuses hoidiste näitus-müük\nParimatele hoidistele auhinnad! \nRegistreerida 5. septembriks tel 5309 9523 Saidi \nLaadal platsimaks 5 € \n 
URL:https://www.kambja.info/syndmus/sugislaat-ja-hoidiste-konkurss/
LOCATION:Kambja kultuurikeskus\, Kesk 12\, Kambja\, Kambja vald\, Tartumaa\, 62034
CATEGORIES:Laat/mess,Näitus
ATTACH;FMTTYPE=image/jpeg:https://www.kambja.info/wp-content/uploads/2023/06/THUMB_sugislaat_KAKUKE_10092023-.jpg
GEO:58.236067475094;26.70260166293
X-APPLE-STRUCTURED-LOCATION;VALUE=URI;X-ADDRESS=Kambja kultuurikeskus Kesk 12 Kambja Kambja vald Tartumaa 62034;X-APPLE-RADIUS=500;X-TITLE=Kesk 12:geo:26.70260166293,58.236067475094
END:VEVENT
END:VCALENDAR