BEGIN:VCALENDAR
VERSION:2.0
PRODID:-//Kambja Valla Sõnumid - ECPv6.15.20//NONSGML v1.0//EN
CALSCALE:GREGORIAN
METHOD:PUBLISH
X-ORIGINAL-URL:https://www.kambja.info
X-WR-CALDESC:Events for Kambja Valla Sõnumid
REFRESH-INTERVAL;VALUE=DURATION:PT1H
X-Robots-Tag:noindex
X-PUBLISHED-TTL:PT1H
BEGIN:VTIMEZONE
TZID:Europe/Tallinn
BEGIN:DAYLIGHT
TZOFFSETFROM:+0200
TZOFFSETTO:+0300
TZNAME:EEST
DTSTART:20230326T010000
END:DAYLIGHT
BEGIN:STANDARD
TZOFFSETFROM:+0300
TZOFFSETTO:+0200
TZNAME:EET
DTSTART:20231029T010000
END:STANDARD
BEGIN:DAYLIGHT
TZOFFSETFROM:+0200
TZOFFSETTO:+0300
TZNAME:EEST
DTSTART:20240331T010000
END:DAYLIGHT
BEGIN:STANDARD
TZOFFSETFROM:+0300
TZOFFSETTO:+0200
TZNAME:EET
DTSTART:20241027T010000
END:STANDARD
BEGIN:DAYLIGHT
TZOFFSETFROM:+0200
TZOFFSETTO:+0300
TZNAME:EEST
DTSTART:20250330T010000
END:DAYLIGHT
BEGIN:STANDARD
TZOFFSETFROM:+0300
TZOFFSETTO:+0200
TZNAME:EET
DTSTART:20251026T010000
END:STANDARD
END:VTIMEZONE
BEGIN:VEVENT
DTSTART;VALUE=DATE:20240401
DTEND;VALUE=DATE:20240602
DTSTAMP:20260421T062018
CREATED:20240229T140914Z
LAST-MODIFIED:20240412T090758Z
UID:10035461-1711951200-1717221599@www.kambja.info
SUMMARY:Anneli Kaasiku maalinäitus
DESCRIPTION:Olen lõpetanud Tartu Kunstikooli ja TÜ Haridusteaduste Instituudi pedagoogika kursuse.\nViimased 15 aastat olen teostanud ennast järjepideva loomingu kõrvalt ka kunstiõpetajana. Arvan\, et kunstitund on hea koht laste ja noorte loovuse arendamiseks\, loomerõõmu tundma õppimiseks ja protsessi nautimiseks. Innustan õpilasi mõtlema väljaspool raame ja olen ka ise avatud uutele ideele. Enda loomingut olen maalinud nii puidust laastudele\, mööblile\, otse seinale ja ka lõuendile. Mind puudutab väga loodushoid ja taaskasutus. Vahva on anda tarbeesemetele uus elu\, maalides “tööst väsinud” pannidele\, kannudele\, kandikutele. \nOsad maalid näitusel on ka müügiks. \nNäitus avatud ringide töö ajal. Muul ajal helista 5309 9523 Saidi
URL:https://www.kambja.info/syndmus/anneli-kaasiku-maalinaitus/
LOCATION:Reola kultuurimaja\, Valge tee 1\, Uhti küla\, Kambja vald\, Tartumaa\, 61712
CATEGORIES:Näitus
ATTACH;FMTTYPE=image/jpeg:https://www.kambja.info/wp-content/uploads/2024/02/THUMB_Anneli_Kaasik_maalinaitus_REKU_04_052024.jpg
GEO:58.285495;26.713672
X-APPLE-STRUCTURED-LOCATION;VALUE=URI;X-ADDRESS=Reola kultuurimaja Valge tee 1 Uhti küla Kambja vald Tartumaa 61712;X-APPLE-RADIUS=500;X-TITLE=Valge tee 1:geo:26.713672,58.285495
END:VEVENT
BEGIN:VEVENT
DTSTART;VALUE=DATE:20240401
DTEND;VALUE=DATE:20240602
DTSTAMP:20260421T062018
CREATED:20240424T090118Z
LAST-MODIFIED:20240424T135305Z
UID:10036087-1711951200-1717221599@www.kambja.info
SUMMARY:Linda Luhse maalinäitus
DESCRIPTION:Kunstiterapeut ja harrastuskunstnik Linda Luhse tegutseb praegu Viljandis\, aga on aastaid töötanud arstina Räpinas. Näitusi on Linda korraldanud alates 1992. aastast ja seostanud neid ümmarguste sünnipäevadega. Koolipõlves Linda kunstiõpinguteni ei jõudnud\, kuigi joonistas väga hästi. Tal oli kindel soov saada arstiks. \nNüüd on aeg loomevabaduseks. Linda armastab väga pastelltehnikat. Näitusel on suureformaadilised kaunid loodusmaalid ja suurte kunstnike tööde järgi maalitud pildid. On ka üks kollaaž\, millel on kunstnik ise. Linda Luhse loodab\, et näitus inspireerib külastajaid märkama kaunist enda kõrval ja ergutab sisemist loovust. \nNäitus avatud ringide töö ajal. \nMuul ajal helista 5309 9523 Saidi
URL:https://www.kambja.info/syndmus/linda-luhse-maalinaitus/
LOCATION:Kambja kultuurikeskus\, Kesk 12\, Kambja\, Kambja vald\, Tartumaa\, 62034
CATEGORIES:Näitus
ATTACH;FMTTYPE=image/jpeg:https://www.kambja.info/wp-content/uploads/2024/04/THUMB_Linda_Luhse_maal.jpg
GEO:58.236067475094;26.70260166293
X-APPLE-STRUCTURED-LOCATION;VALUE=URI;X-ADDRESS=Kambja kultuurikeskus Kesk 12 Kambja Kambja vald Tartumaa 62034;X-APPLE-RADIUS=500;X-TITLE=Kesk 12:geo:26.70260166293,58.236067475094
END:VEVENT
BEGIN:VEVENT
DTSTART;VALUE=DATE:20240501
DTEND;VALUE=DATE:20240917
DTSTAMP:20260421T062018
CREATED:20240503T085659Z
LAST-MODIFIED:20240826T090440Z
UID:10036102-1714543200-1726466399@www.kambja.info
SUMMARY:Ingrid Ulsti maalide näitus
DESCRIPTION:Ingrid Ulst (26.03.1977) on Tartumaal elav harrastuskunstnik\, kes on maalimist õppinud kunstnik Aime Asi käe all 2015–2017 Tartu rahvaülikoolis. \nIngrid endast: \nOlen kunsti vastu alati huvi tundnud ja joonistanud ning maalinud juba enne Aime juurde õppima asumist. 2005. aastal Luksemburgis elades õppisin seal kohalikult kunstnikult natuke must-valget pliiatsijoonistust\, omal käel plätserdasin ka õlivärvi nin\nakrüüliga. Tõsisemalt hakkasin maalima aga just Aime juhendamisel. Põhiliselt töötan akrüülidega\, aga aeg-ajalt meeldib mulle katsetada ka segatehnikaid ning olen ära proovinud ka mõned viimase aja moodsad tehnikad\, näiteks pouring-maali tehnika. Lisaks olen proovinud ka angoobimaali (saviga maalimine keraamikale)\, kuid akrüülide vastu ei saa muidugi miski. Maalimine on minu jaoks oluline eneseväljenduse liik\, nii nagu ka teater\, muusika ja tants. Enamasti sünnivad minu maalid spontaanselt mõne mõttevälgatuse või mälupildi ajel\, mis kannustab ideid kiiresti lõuendile visandama. Spontaanse eneseväljenduse kõrval on teine asi\, mis mind maalimise juures köidab\, võimalus värvidega mängida. Olen maalimise kaudu taasavastanud lapsepõlvest tuttava\, aga täiskasvanuna unustatud tõsiasja\, et maailm on väga värviline paik.
URL:https://www.kambja.info/syndmus/ingrid-ulsti-maalide-naitus/
LOCATION:Tõrvandi raamatukogu\, Ringtee 1\, Tõrvandi alevik\, Kambja vald\, Tartumaa\, 61715
CATEGORIES:Näitus,VK
ATTACH;FMTTYPE=image/jpeg:https://www.kambja.info/wp-content/uploads/2024/05/THUMB_maalinaitus_I_Ulst.jpg
ORGANIZER;CN="T%C3%B5rvandi raamatukogu":MAILTO:raamatukogu@torvandi.ee
GEO:58.321414;26.706153
X-APPLE-STRUCTURED-LOCATION;VALUE=URI;X-ADDRESS=Tõrvandi raamatukogu Ringtee 1 Tõrvandi alevik Kambja vald Tartumaa 61715;X-APPLE-RADIUS=500;X-TITLE=Ringtee 1:geo:26.706153,58.321414
END:VEVENT
END:VCALENDAR