BEGIN:VCALENDAR
VERSION:2.0
PRODID:-//Kambja Valla Sõnumid - ECPv6.15.20//NONSGML v1.0//EN
CALSCALE:GREGORIAN
METHOD:PUBLISH
X-WR-CALNAME:Kambja Valla Sõnumid
X-ORIGINAL-URL:https://www.kambja.info
X-WR-CALDESC:Events for Kambja Valla Sõnumid
REFRESH-INTERVAL;VALUE=DURATION:PT1H
X-Robots-Tag:noindex
X-PUBLISHED-TTL:PT1H
BEGIN:VTIMEZONE
TZID:Europe/Tallinn
BEGIN:DAYLIGHT
TZOFFSETFROM:+0200
TZOFFSETTO:+0300
TZNAME:EEST
DTSTART:20240331T010000
END:DAYLIGHT
BEGIN:STANDARD
TZOFFSETFROM:+0300
TZOFFSETTO:+0200
TZNAME:EET
DTSTART:20241027T010000
END:STANDARD
BEGIN:DAYLIGHT
TZOFFSETFROM:+0200
TZOFFSETTO:+0300
TZNAME:EEST
DTSTART:20250330T010000
END:DAYLIGHT
BEGIN:STANDARD
TZOFFSETFROM:+0300
TZOFFSETTO:+0200
TZNAME:EET
DTSTART:20251026T010000
END:STANDARD
BEGIN:DAYLIGHT
TZOFFSETFROM:+0200
TZOFFSETTO:+0300
TZNAME:EEST
DTSTART:20260329T010000
END:DAYLIGHT
BEGIN:STANDARD
TZOFFSETFROM:+0300
TZOFFSETTO:+0200
TZNAME:EET
DTSTART:20261025T010000
END:STANDARD
END:VTIMEZONE
BEGIN:VEVENT
DTSTART;VALUE=DATE:20250101
DTEND;VALUE=DATE:20250302
DTSTAMP:20260420T152207
CREATED:20241121T143440Z
LAST-MODIFIED:20250217T113810Z
UID:10036218-1735711200-1740808799@www.kambja.info
SUMMARY:Maalinäitus. Laivi Põder
DESCRIPTION:Näitus on avatud ringide töö ja ürituste ajal.\nLisateave tel +372 5309 9523
URL:https://www.kambja.info/syndmus/maalinaitus-laivi-poder/
LOCATION:Reola kultuurimaja\, Valge tee 1\, Uhti küla\, Kambja vald\, Tartumaa\, 61712
CATEGORIES:Näitus,VK
ATTACH;FMTTYPE=image/jpeg:https://www.kambja.info/wp-content/uploads/2024/11/THUMB_maalinaitus_Laivi_Poder-360-x-203-px.jpg
GEO:58.285495;26.713672
X-APPLE-STRUCTURED-LOCATION;VALUE=URI;X-ADDRESS=Reola kultuurimaja Valge tee 1 Uhti küla Kambja vald Tartumaa 61712;X-APPLE-RADIUS=500;X-TITLE=Valge tee 1:geo:26.713672,58.285495
END:VEVENT
BEGIN:VEVENT
DTSTART;VALUE=DATE:20250102
DTEND;VALUE=DATE:20250302
DTSTAMP:20260420T152207
CREATED:20241202T124048Z
LAST-MODIFIED:20250217T113826Z
UID:10036229-1735797600-1740808799@www.kambja.info
SUMMARY:Anneli Kaasiku maalinäitus
DESCRIPTION:  \nOlen lõpetanud Tartu Kunstikooli ja TÜ Haridusteaduste Instituudi pedagoogika kursuse.\nViimased 15 aastat olen teostanud ennast järjepideva loomingu kõrvalt ka kunstiõpetajana. Arvan\, et kunstitund on hea koht laste ja noorte loovuse arendamiseks\, loomerõõmu tundma õppimiseks ja protsessi nautimiseks. Innustan õpilasi mõtlema väljaspool raame ja olen ka ise avatud uutele ideele. Enda loomingut olen maalinud nii puidust laastudele\, mööblile\, otse seinale ja ka lõuendile. Mind puudutab väga loodushoid ja taaskasutus. Vahva on anda tarbeesemetele uus elu\, maalides “tööst väsinud” pannidele\, kannudele\, kandikutele. \nOsad maalid näitusel on ka müügiks. \nNäitus avatud ringide töö ajal. Muul ajal helista 5309 9523 Saidi
URL:https://www.kambja.info/syndmus/anneli-kaasiku-maalinaitus-2/
LOCATION:Kambja kultuurikeskus\, Kesk 12\, Kambja\, Kambja vald\, Tartumaa\, 62034
CATEGORIES:Näitus,VK
ATTACH;FMTTYPE=image/jpeg:https://www.kambja.info/wp-content/uploads/2024/02/THUMB_Anneli_Kaasik_maalinaitus_REKU_04_052024.jpg
GEO:58.236067475094;26.70260166293
X-APPLE-STRUCTURED-LOCATION;VALUE=URI;X-ADDRESS=Kambja kultuurikeskus Kesk 12 Kambja Kambja vald Tartumaa 62034;X-APPLE-RADIUS=500;X-TITLE=Kesk 12:geo:26.70260166293,58.236067475094
END:VEVENT
BEGIN:VEVENT
DTSTART;VALUE=DATE:20250117
DTEND;VALUE=DATE:20250419
DTSTAMP:20260420T152207
CREATED:20250117T133722Z
LAST-MODIFIED:20250326T081532Z
UID:10036248-1737093600-1744955999@www.kambja.info
SUMMARY:Akvarellmaalide näitus. Ülo Kunks
DESCRIPTION:Tõrvandi raamatukogu fuajees on võimalus imetleda maalikunstniku Ülo Kunksi akvarellmaalide näitus-müüki.
URL:https://www.kambja.info/syndmus/akvarellmaalide-naitus-ulo-kunks/
LOCATION:Tõrvandi raamatukogu\, Ringtee 1\, Tõrvandi alevik\, Kambja vald\, Tartumaa\, 61715
CATEGORIES:Näitus,VK
ATTACH;FMTTYPE=image/jpeg:https://www.kambja.info/wp-content/uploads/2025/01/THUMB_Ulo_Kunks_maal.jpg
ORGANIZER;CN="T%C3%B5rvandi raamatukogu":MAILTO:raamatukogu@torvandi.ee
GEO:58.321414;26.706153
X-APPLE-STRUCTURED-LOCATION;VALUE=URI;X-ADDRESS=Tõrvandi raamatukogu Ringtee 1 Tõrvandi alevik Kambja vald Tartumaa 61715;X-APPLE-RADIUS=500;X-TITLE=Ringtee 1:geo:26.706153,58.321414
END:VEVENT
END:VCALENDAR