BEGIN:VCALENDAR
VERSION:2.0
PRODID:-//Kambja Valla Sõnumid - ECPv6.15.20//NONSGML v1.0//EN
CALSCALE:GREGORIAN
METHOD:PUBLISH
X-WR-CALNAME:Kambja Valla Sõnumid
X-ORIGINAL-URL:https://www.kambja.info
X-WR-CALDESC:Events for Kambja Valla Sõnumid
REFRESH-INTERVAL;VALUE=DURATION:PT1H
X-Robots-Tag:noindex
X-PUBLISHED-TTL:PT1H
BEGIN:VTIMEZONE
TZID:Europe/Tallinn
BEGIN:DAYLIGHT
TZOFFSETFROM:+0200
TZOFFSETTO:+0300
TZNAME:EEST
DTSTART:20240331T010000
END:DAYLIGHT
BEGIN:STANDARD
TZOFFSETFROM:+0300
TZOFFSETTO:+0200
TZNAME:EET
DTSTART:20241027T010000
END:STANDARD
BEGIN:DAYLIGHT
TZOFFSETFROM:+0200
TZOFFSETTO:+0300
TZNAME:EEST
DTSTART:20250330T010000
END:DAYLIGHT
BEGIN:STANDARD
TZOFFSETFROM:+0300
TZOFFSETTO:+0200
TZNAME:EET
DTSTART:20251026T010000
END:STANDARD
BEGIN:DAYLIGHT
TZOFFSETFROM:+0200
TZOFFSETTO:+0300
TZNAME:EEST
DTSTART:20260329T010000
END:DAYLIGHT
BEGIN:STANDARD
TZOFFSETFROM:+0300
TZOFFSETTO:+0200
TZNAME:EET
DTSTART:20261025T010000
END:STANDARD
END:VTIMEZONE
BEGIN:VEVENT
DTSTART;VALUE=DATE:20250301
DTEND;VALUE=DATE:20250502
DTSTAMP:20260420T103805
CREATED:20250304T170417Z
LAST-MODIFIED:20250403T111027Z
UID:10039473-1740808800-1746079199@www.kambja.info
SUMMARY:Maalinäitus. Silja Kangur
DESCRIPTION:
URL:https://www.kambja.info/syndmus/maalinaitus-silja-kangur/
LOCATION:Reola kultuurimaja\, Valge tee 1\, Uhti küla\, Kambja vald\, Tartumaa\, 61712
CATEGORIES:Näitus,VK
ATTACH;FMTTYPE=image/jpeg:https://www.kambja.info/wp-content/uploads/2025/03/PLAKAT_Silja_Kangur_maalid_REKU.jpg
GEO:58.285495;26.713672
X-APPLE-STRUCTURED-LOCATION;VALUE=URI;X-ADDRESS=Reola kultuurimaja Valge tee 1 Uhti küla Kambja vald Tartumaa 61712;X-APPLE-RADIUS=500;X-TITLE=Valge tee 1:geo:26.713672,58.285495
END:VEVENT
BEGIN:VEVENT
DTSTART;VALUE=DATE:20250301
DTEND;VALUE=DATE:20250502
DTSTAMP:20260420T103805
CREATED:20250227T100417Z
LAST-MODIFIED:20250403T111045Z
UID:10036274-1740808800-1746079199@www.kambja.info
SUMMARY:Kunstinäitus. Laivi Põder
DESCRIPTION:Näitus on avatud ringide töö ja ürituste ajal.\nLisateave tel +372 5309 9523
URL:https://www.kambja.info/syndmus/kunstinaitus-laivi-poder/
LOCATION:Kambja kultuurikeskus\, Kesk 12\, Kambja\, Kambja vald\, Tartumaa\, 62034
CATEGORIES:Näitus,VK
ATTACH;FMTTYPE=image/jpeg:https://www.kambja.info/wp-content/uploads/2025/02/THUMB_kunstinaitus_Laivi_Poder.jpg
GEO:58.236067475094;26.70260166293
X-APPLE-STRUCTURED-LOCATION;VALUE=URI;X-ADDRESS=Kambja kultuurikeskus Kesk 12 Kambja Kambja vald Tartumaa 62034;X-APPLE-RADIUS=500;X-TITLE=Kesk 12:geo:26.70260166293,58.236067475094
END:VEVENT
END:VCALENDAR