BEGIN:VCALENDAR
VERSION:2.0
PRODID:-//Kambja Valla Sõnumid - ECPv6.15.20//NONSGML v1.0//EN
CALSCALE:GREGORIAN
METHOD:PUBLISH
X-WR-CALNAME:Kambja Valla Sõnumid
X-ORIGINAL-URL:https://www.kambja.info
X-WR-CALDESC:Events for Kambja Valla Sõnumid
REFRESH-INTERVAL;VALUE=DURATION:PT1H
X-Robots-Tag:noindex
X-PUBLISHED-TTL:PT1H
BEGIN:VTIMEZONE
TZID:Europe/Tallinn
BEGIN:DAYLIGHT
TZOFFSETFROM:+0200
TZOFFSETTO:+0300
TZNAME:EEST
DTSTART:20240331T010000
END:DAYLIGHT
BEGIN:STANDARD
TZOFFSETFROM:+0300
TZOFFSETTO:+0200
TZNAME:EET
DTSTART:20241027T010000
END:STANDARD
BEGIN:DAYLIGHT
TZOFFSETFROM:+0200
TZOFFSETTO:+0300
TZNAME:EEST
DTSTART:20250330T010000
END:DAYLIGHT
BEGIN:STANDARD
TZOFFSETFROM:+0300
TZOFFSETTO:+0200
TZNAME:EET
DTSTART:20251026T010000
END:STANDARD
BEGIN:DAYLIGHT
TZOFFSETFROM:+0200
TZOFFSETTO:+0300
TZNAME:EEST
DTSTART:20260329T010000
END:DAYLIGHT
BEGIN:STANDARD
TZOFFSETFROM:+0300
TZOFFSETTO:+0200
TZNAME:EET
DTSTART:20261025T010000
END:STANDARD
END:VTIMEZONE
BEGIN:VEVENT
DTSTART;VALUE=DATE:20250607
DTEND;VALUE=DATE:20250610
DTSTAMP:20260420T102050
CREATED:20250514T084018Z
LAST-MODIFIED:20250514T084018Z
UID:10039646-1749276000-1749448799@www.kambja.info
SUMMARY:Eesti lennupäevad
DESCRIPTION:Traditsiooniliseks kujunenud iga-aastased lennupäevad on Baltikumi suurim lennundusüritus. Lennupäevade initsiaatoriks on jätkuvalt Eesti lennundusmuuseum. Olulisemateks partneriteks on õhuvägi ja lennuakadeemia. \nLigikaudne ajakava 7. juunil\n\n09.30 Pilootide briifing angaaris nr.19\n10.00\n\nKülastajatele avatakse Lennundusmuuseumi territoorium ja ekspositsioon.\nAvatakse ettevõtete reklaamboksid.\nTöötavad atraktsioonid\, müügipunktid ja lastenurgad.\nKülastajate vastuvõtmiseks on valmis Kaitseliidu malevkond ja liitlaste lahinggrupp Tapalt.\n\n\n10.00 – 18.00 Helikopteri huvilennud\n11.00 – 11.20 Keelutsoon/mototiibvarjud\n11.30 – 11.50 Jüri Kaljundi soololend biplaanil Pitts S-2A\n12.00 Lennupäevade avamine\n12.15 – 12.25 Õhuväe M-28 demolend\n12.30 – 12.45 Õhuväe L-39 demolend\n13.00 – 13.15 NATO turvehävitajate ülelend\n13.20 – 13.45 Jurgis Kairyse soololend\n13.50 – 14.15 Baltic Bees\n14.45 – 15.00 PPA Augusta demo lend\n15.00 – 15.20 NATO helikopterite demolend\n16.00 – 16.30 Erapilootide lennud\n16.30 Lennuprogramm lõppeb\n18.00 Esimene lennupäev on lõppenud ja suletakse värava\n\n\nLigikaudne ajakava 8. juunil\n\n09.30 Pilootide briifing angaaris nr.19\n10.00\n\nKülastajatele avatakse Lennundusmuuseumi territoorium ja ekspositsioon.\nAvatakse ettevõtete reklaamboksid.\nTöötavad atraktsioonid\, müügipunktid ja lastenurgad.\nKülastajate vastuvõtmiseks on valmis Kaitseliidu malevkond ja liitlaste lahinggrupp Tapalt.\n\n\n10.00  – 18.00 Helikopteri huvilennud\n11.00 – 11.20 Keelutsoon/mototiibvarjud\n11.30 – 11.50 Jüri Kaljundi soololend biplaanil Pitts S-2A\n12.00 Lennupäevade avamine\n12.15 – 12.25 Õhuväe M-28 demolend\n12.30 – 12.45 Õhuväe L-39 demolend\n13.00 – 13.15 NATO turvehävitajate ülelend\n13.20 – 13.45 Jurgis Kairyse soololend\n13.50 – 14.15 Baltic Bees\n14.45 – 15.00 PPA Augusta demo lend\n15.00 – 15.20 NATO helikopterite demolend\n16.00 – 16.30 Erapilootide lennud\n16.30 Lennuprogramm lõppeb\n18.00 Teine lennupäev on lõppenud ja suletakse väravad\n\nNB! Lähtuvalt lennupäevade lennuprogrammis osalejate viimase momendi otsustest või ilmastikutingimustest võib ajakava jooksvalt täpsustuda või muutuda! \nLennupäevade piletihinnad: \n\nüldpilet täiskasvanutele 20 €\nkooliõpilastele 10 €\, suurperede kaardi esitamisel on kooliõpilase piletihinnaks 5 €\nkoolieelikutele tasuta\nraskete liikumispuuetega külastajatele tasuta\npileteid müüakse Piletilevis ja kohapeal.\n\nAutode parkimine toimub Lange motokeskuse territooriumil. Teeninduskiiruse huvides pargitakse autod ära ja siis koos Lennupäevade pääsme ostmisega ostetakse ka parkimispilet (5 eur). Parkimispileti olemasolu kontrollitakse autoga parklast väljumisel. Palume saabumist mitte  jätta viimasele minutile\, seoses millega võivad tekkida pikad autode järjekorrad. Teeninduskiiruse huvides palume võimaluse korral maksta sularahas. \nMuudatused ja täpsem teave lennundusmuuseumi veebis.
URL:https://www.kambja.info/syndmus/eesti-lennupaevad-2025/
LOCATION:Eesti lennundusmuuseum\, Lennundusmuuseum\, Lange küla\, Kastre vald\, Tartumaa\, 62115
CATEGORIES:Laat/mess,Näitus,PT
ATTACH;FMTTYPE=image/webp:https://www.kambja.info/wp-content/uploads/2025/05/THUMB_Lennunduspaevad.webp
ORGANIZER;CN="Eesti lennundusmuuseum":MAILTO:info@lennundusmuuseum.ee
GEO:58.288557;26.765086
X-APPLE-STRUCTURED-LOCATION;VALUE=URI;X-ADDRESS=Eesti lennundusmuuseum Lennundusmuuseum Lange küla Kastre vald Tartumaa 62115;X-APPLE-RADIUS=500;X-TITLE=Lennundusmuuseum:geo:26.765086,58.288557
END:VEVENT
END:VCALENDAR