BEGIN:VCALENDAR
VERSION:2.0
PRODID:-//Kambja Valla Sõnumid - ECPv6.15.20//NONSGML v1.0//EN
CALSCALE:GREGORIAN
METHOD:PUBLISH
X-WR-CALNAME:Kambja Valla Sõnumid
X-ORIGINAL-URL:https://www.kambja.info
X-WR-CALDESC:Events for Kambja Valla Sõnumid
REFRESH-INTERVAL;VALUE=DURATION:PT1H
X-Robots-Tag:noindex
X-PUBLISHED-TTL:PT1H
BEGIN:VTIMEZONE
TZID:Europe/Tallinn
BEGIN:DAYLIGHT
TZOFFSETFROM:+0200
TZOFFSETTO:+0300
TZNAME:EEST
DTSTART:20220327T010000
END:DAYLIGHT
BEGIN:STANDARD
TZOFFSETFROM:+0300
TZOFFSETTO:+0200
TZNAME:EET
DTSTART:20221030T010000
END:STANDARD
BEGIN:DAYLIGHT
TZOFFSETFROM:+0200
TZOFFSETTO:+0300
TZNAME:EEST
DTSTART:20230326T010000
END:DAYLIGHT
BEGIN:STANDARD
TZOFFSETFROM:+0300
TZOFFSETTO:+0200
TZNAME:EET
DTSTART:20231029T010000
END:STANDARD
BEGIN:DAYLIGHT
TZOFFSETFROM:+0200
TZOFFSETTO:+0300
TZNAME:EEST
DTSTART:20240331T010000
END:DAYLIGHT
BEGIN:STANDARD
TZOFFSETFROM:+0300
TZOFFSETTO:+0200
TZNAME:EET
DTSTART:20241027T010000
END:STANDARD
BEGIN:DAYLIGHT
TZOFFSETFROM:+0200
TZOFFSETTO:+0300
TZNAME:EEST
DTSTART:20250330T010000
END:DAYLIGHT
BEGIN:STANDARD
TZOFFSETFROM:+0300
TZOFFSETTO:+0200
TZNAME:EET
DTSTART:20251026T010000
END:STANDARD
BEGIN:DAYLIGHT
TZOFFSETFROM:+0200
TZOFFSETTO:+0300
TZNAME:EEST
DTSTART:20260329T010000
END:DAYLIGHT
BEGIN:STANDARD
TZOFFSETFROM:+0300
TZOFFSETTO:+0200
TZNAME:EET
DTSTART:20261025T010000
END:STANDARD
END:VTIMEZONE
BEGIN:VEVENT
DTSTART;TZID=Europe/Tallinn:20251001T173000
DTEND;TZID=Europe/Tallinn:20251001T193000
DTSTAMP:20260421T190818
CREATED:20250917T075127Z
LAST-MODIFIED:20250917T075127Z
UID:10039687-1759339800-1759347000@www.kambja.info
SUMMARY:Unenäopüüdja töötuba
DESCRIPTION:Loov õhtu looduslike materjalidega\nTule veeda üks mõnus ja loov sügisõhtu\, kus aeg peatub ning käed loovad midagi tõeliselt isikupärast ja kaunist. \nPunumistöötoas valmistame klassikalises tehnikas võrkpunutisega unenäopüüdjaid\, kasutades naturaalseid nööre ning valikut erinevatest dekoratiivsetest lisanditest – sulgedest helmesteni. \nTöötuba juhendab Merike Uuetoa (Unelm ja Postimaja Salong). \nMeie poolt: \n\nkõik vajalikud materjalid ja kaunistused\njuhendaja tugi ja tehnilised nipid\ninspiratsiooniks valik näidistöid\nmõnus õhtupoolik ja aeg iseendale\, et midagi uut ja põnevat õppida\n\nValminud unenäopüüdja saab iga osaleja endaga kohe koju kaasa. \nOsalemine ei eelda eelnevat kogemust – töötuba sobib kõigile\, kes soovivad oma kätega midagi päriselt valmis teha ja meeldivalt oma vaba aega sisustada Kambja vallas. \nOsalustasu 22 €. Kohtade arv on piiratud – registreeru varakult. \nTeave ja registreerumine: aive.vahejoe@kambja.ee
URL:https://www.kambja.info/syndmus/unenaopuudja-tootuba/
LOCATION:Reola kultuurimaja\, Valge tee 1\, Uhti küla\, Kambja vald\, Tartumaa\, 61712
CATEGORIES:2. Huviring,Kogukond,Koolitus,PT
ATTACH;FMTTYPE=image/webp:https://www.kambja.info/wp-content/uploads/2025/09/THUMB_unenaopuudja_tootuba_01102025_REKU.webp
ORGANIZER;CN="Kambja Kultuur ja Sport":MAILTO:saidi.tammeorg@kambja.ee
GEO:58.285495;26.713672
X-APPLE-STRUCTURED-LOCATION;VALUE=URI;X-ADDRESS=Reola kultuurimaja Valge tee 1 Uhti küla Kambja vald Tartumaa 61712;X-APPLE-RADIUS=500;X-TITLE=Valge tee 1:geo:26.713672,58.285495
END:VEVENT
BEGIN:VEVENT
DTSTART;TZID=Europe/Tallinn:20230911T190000
DTEND;TZID=Europe/Tallinn:20230911T204500
DTSTAMP:20260421T190818
CREATED:20230810T063620Z
LAST-MODIFIED:20230817T153904Z
UID:10009481-1694458800-1694465100@www.kambja.info
SUMMARY:Mängufilm „Vaba raha“
DESCRIPTION:Eesti 2023 \nKust otsiksid sina abi\, kui pank su nii kindlana näinud laenutaotlusest keeldub? Just sellise probleemi eest leiavad end Taavi (Märt Pius) ja Liisa (Steffi Pähn). Lotopilet oleks abiks\, või hoopis mõned tuhanded Bitcoinid\, mis kümme aastat tagasi su tehnikakasti vedelema jäi? \nSamal ajal naudib entusiastlik ettevõtja Maximillion (Miklós Bányai) oma krüptobörsi tähelendu ja ei jõua ära oodata klassikalise panganduse kollapsi koos oma kauni kaasa Armaniga (Amanda Hermiine Künnapas). Pensionifondi juht Erik (Ivo Uukkivi) aga hoiab kainet mõistust ja käib suure kaarega mööda kõigest digitaalsest. Investeerimist väärib ju vaid see\, mida mõistad\, hoomad. Kuid\, mida sa teed\, kui isegi su 12-aastane poeg teenib juba rohkem kui sina? \nKrüptost\, investeerimisest ja kõigest mis sinna vahele jääb pajatav „Vaba raha“ on tempokas seikluskomöödia\, mis võtab huumoriphitide vahele viimase kümne aasta jooksul rahvusspordiks saanud rahatarkuse. \nStsenarist-režissöör: Rain Rannu\nProdutsendid: Tõnu Hiielaid\, Rain Rannu\nOperaator: Ants Tammik\nHelilooja: Bert On Beats\nKunst ja kostüümid: Tõnu Hiielaid & Urmet Piiling\nMontaaž: Rain Rannu\, Moonika Põdersalu\nHelirežii: Markus Andreas\, Aleksandra Koel\nHelisalvestus: Liis Karlson\, Joonas Taimla\nVärv: Sten-Johan Lill\nVFX: Dual Illusion\nTegevprodutsent: Sander Lebreht \nTavapilet 6€\, sooduspilet 4.5€
URL:https://www.kambja.info/syndmus/film-vaba-raha-2/
LOCATION:Reola kultuurimaja\, Valge tee 1\, Uhti küla\, Kambja vald\, Tartumaa\, 61712
CATEGORIES:Film
ATTACH;FMTTYPE=image/jpeg:https://www.kambja.info/wp-content/uploads/2023/08/Vaba-raha_thumb.jpg.jpg
ORGANIZER;CN="Kambja Kultuur ja Sport":MAILTO:saidi.tammeorg@kambja.ee
GEO:58.285495;26.713672
X-APPLE-STRUCTURED-LOCATION;VALUE=URI;X-ADDRESS=Reola kultuurimaja Valge tee 1 Uhti küla Kambja vald Tartumaa 61712;X-APPLE-RADIUS=500;X-TITLE=Valge tee 1:geo:26.713672,58.285495
END:VEVENT
END:VCALENDAR