BEGIN:VCALENDAR
VERSION:2.0
PRODID:-//Kambja Valla Sõnumid - ECPv6.15.20//NONSGML v1.0//EN
CALSCALE:GREGORIAN
METHOD:PUBLISH
X-WR-CALNAME:Kambja Valla Sõnumid
X-ORIGINAL-URL:https://www.kambja.info
X-WR-CALDESC:Events for Kambja Valla Sõnumid
REFRESH-INTERVAL;VALUE=DURATION:PT1H
X-Robots-Tag:noindex
X-PUBLISHED-TTL:PT1H
BEGIN:VTIMEZONE
TZID:Europe/Tallinn
BEGIN:DAYLIGHT
TZOFFSETFROM:+0200
TZOFFSETTO:+0300
TZNAME:EEST
DTSTART:20240331T010000
END:DAYLIGHT
BEGIN:STANDARD
TZOFFSETFROM:+0300
TZOFFSETTO:+0200
TZNAME:EET
DTSTART:20241027T010000
END:STANDARD
BEGIN:DAYLIGHT
TZOFFSETFROM:+0200
TZOFFSETTO:+0300
TZNAME:EEST
DTSTART:20250330T010000
END:DAYLIGHT
BEGIN:STANDARD
TZOFFSETFROM:+0300
TZOFFSETTO:+0200
TZNAME:EET
DTSTART:20251026T010000
END:STANDARD
BEGIN:DAYLIGHT
TZOFFSETFROM:+0200
TZOFFSETTO:+0300
TZNAME:EEST
DTSTART:20260329T010000
END:DAYLIGHT
BEGIN:STANDARD
TZOFFSETFROM:+0300
TZOFFSETTO:+0200
TZNAME:EET
DTSTART:20261025T010000
END:STANDARD
END:VTIMEZONE
BEGIN:VEVENT
DTSTART;TZID=Europe/Tallinn:20250430T150000
DTEND;TZID=Europe/Tallinn:20250430T193000
DTSTAMP:20260420T182017
CREATED:20250409T074217Z
LAST-MODIFIED:20250409T082807Z
UID:10039626-1746025200-1746041400@www.kambja.info
SUMMARY:Seiklushundi orienteerumispäevak
DESCRIPTION:Seiklushundi orienteerumispäevak jõuab Tõrvandisse! Tule ja avasta oma kodukanti orienteerudes. \nPäevakul on valikus neli erinevat rada\, mis erinevad pikkuse ja raskusastme poolest. Pikima raja pikkus on umbes 5 km ning kõige lühema (mudilaste rada) pikkus on umbes 1 km.\nKui orienteerumine on võõras\, siis ära pelga! Anna sellest registreerudes teada ning meie räägime Sulle kõik põhitõed üle. \nLiigu üksi või koos sõprade/perega! Tempo valid Sina – kui soovid\, siis jalutad\, kui soovid\, siis jooksed täie rauaga. \nOsalustasu \nTäiskasvanud 7 € (vajadusel lisandub 1 € SI-pulga rendi eest)\nÜliõpilased/pensionärid – 4 € (vajadusel lisandub 1 € SI-pulga rendi eest)\nKooliõpilased (kuni 19.a) – TASUTA (vajadusel lisandub 1 € SI-pulga rendi eest)\nMudilased (eelkooliealised) – TASUTA (sh on SI-pulga rent TASUTA) \nTäpsem teave ja võistlusjuhend
URL:https://www.kambja.info/syndmus/seiklushundi-orienteerumispaevak/
LOCATION:Tõrvandi spordihall\, Ringtee 1a\, Tõrvandi alevik\, Kambja vald\, Tartumaa\, Eesti
CATEGORIES:3. Spordiring,Spordivõistlus
ATTACH;FMTTYPE=image/jpeg:https://www.kambja.info/wp-content/uploads/2025/04/THUMB_seiklushuni_orinet_paevak.jpg
ORGANIZER;CN="Kontaktisik%3A Arvi Anton":MAILTO:info@seiklushunt.ee
GEO:58.3217939;26.7022379
X-APPLE-STRUCTURED-LOCATION;VALUE=URI;X-ADDRESS=Tõrvandi spordihall Ringtee 1a Tõrvandi alevik Kambja vald Tartumaa Eesti;X-APPLE-RADIUS=500;X-TITLE=Ringtee 1a:geo:26.7022379,58.3217939
END:VEVENT
END:VCALENDAR