BEGIN:VCALENDAR
VERSION:2.0
PRODID:-//Kambja Valla Sõnumid - ECPv6.15.20//NONSGML v1.0//EN
CALSCALE:GREGORIAN
METHOD:PUBLISH
X-WR-CALNAME:Kambja Valla Sõnumid
X-ORIGINAL-URL:https://www.kambja.info
X-WR-CALDESC:Events for Kambja Valla Sõnumid
REFRESH-INTERVAL;VALUE=DURATION:PT1H
X-Robots-Tag:noindex
X-PUBLISHED-TTL:PT1H
BEGIN:VTIMEZONE
TZID:Europe/Tallinn
BEGIN:DAYLIGHT
TZOFFSETFROM:+0200
TZOFFSETTO:+0300
TZNAME:EEST
DTSTART:20230326T010000
END:DAYLIGHT
BEGIN:STANDARD
TZOFFSETFROM:+0300
TZOFFSETTO:+0200
TZNAME:EET
DTSTART:20231029T010000
END:STANDARD
BEGIN:DAYLIGHT
TZOFFSETFROM:+0200
TZOFFSETTO:+0300
TZNAME:EEST
DTSTART:20240331T010000
END:DAYLIGHT
BEGIN:STANDARD
TZOFFSETFROM:+0300
TZOFFSETTO:+0200
TZNAME:EET
DTSTART:20241027T010000
END:STANDARD
BEGIN:DAYLIGHT
TZOFFSETFROM:+0200
TZOFFSETTO:+0300
TZNAME:EEST
DTSTART:20250330T010000
END:DAYLIGHT
BEGIN:STANDARD
TZOFFSETFROM:+0300
TZOFFSETTO:+0200
TZNAME:EET
DTSTART:20251026T010000
END:STANDARD
END:VTIMEZONE
BEGIN:VEVENT
DTSTART;TZID=Europe/Tallinn:20240921T090000
DTEND;TZID=Europe/Tallinn:20240922T153000
DTSTAMP:20260421T163026
CREATED:20240917T104835Z
LAST-MODIFIED:20240917T104835Z
UID:10036167-1726909200-1727019000@www.kambja.info
SUMMARY:Võistlused kettagolfis „Kambja Open 2024“
DESCRIPTION:Laupäev 21.09.2024 \n9.00–09.55 Paaride kohapealne registreerimine (staabis 1. tiiala juures) \n10.00–10.15 Mängijate koosolek ja raja reeglite tutvustamine (kohustuslik) \n10.45–13.30 1. võistlusring shot gun stardiga. \n13.30–14.30 Lõuna \n14.45–17.30 II võistlusring shot gun stardiga. \n  \nPühapäev 22.09.2024 \n10.00–11.00 Paaride kohapealne registreerimine \n11.30–14.30 3. võistlusring shot gun stardiga \n15.00 Autasustamine \nTäpsem teave ja registreerumine:\nhttps://discgolfmetrix.com/2842418 \nKambja aleviku elanikke oodatakse võistlusele kaasa elama ja samas palutakse olla tavapärasest ehk natuke tähelepanelikumad.
URL:https://www.kambja.info/syndmus/voistlused-kettagolfis-kambja-open-2024/
CATEGORIES:Spordivõistlus
ATTACH;FMTTYPE=image/jpeg:https://www.kambja.info/wp-content/uploads/2024/09/THUMB_Kambja_open_2024.jpg
ORGANIZER;CN="MT%C3%9C Discgolf Events":MAILTO:silver@discgolfevents.ee
END:VEVENT
END:VCALENDAR