BEGIN:VCALENDAR
VERSION:2.0
PRODID:-//Kambja Valla Sõnumid - ECPv6.15.20//NONSGML v1.0//EN
CALSCALE:GREGORIAN
METHOD:PUBLISH
X-ORIGINAL-URL:https://www.kambja.info
X-WR-CALDESC:Events for Kambja Valla Sõnumid
REFRESH-INTERVAL;VALUE=DURATION:PT1H
X-Robots-Tag:noindex
X-PUBLISHED-TTL:PT1H
BEGIN:VTIMEZONE
TZID:Europe/Tallinn
BEGIN:DAYLIGHT
TZOFFSETFROM:+0200
TZOFFSETTO:+0300
TZNAME:EEST
DTSTART:20240331T010000
END:DAYLIGHT
BEGIN:STANDARD
TZOFFSETFROM:+0300
TZOFFSETTO:+0200
TZNAME:EET
DTSTART:20241027T010000
END:STANDARD
BEGIN:DAYLIGHT
TZOFFSETFROM:+0200
TZOFFSETTO:+0300
TZNAME:EEST
DTSTART:20250330T010000
END:DAYLIGHT
BEGIN:STANDARD
TZOFFSETFROM:+0300
TZOFFSETTO:+0200
TZNAME:EET
DTSTART:20251026T010000
END:STANDARD
BEGIN:DAYLIGHT
TZOFFSETFROM:+0200
TZOFFSETTO:+0300
TZNAME:EEST
DTSTART:20260329T010000
END:DAYLIGHT
BEGIN:STANDARD
TZOFFSETFROM:+0300
TZOFFSETTO:+0200
TZNAME:EET
DTSTART:20261025T010000
END:STANDARD
END:VTIMEZONE
BEGIN:VEVENT
DTSTART;TZID=Europe/Tallinn:20251004T110000
DTEND;TZID=Europe/Tallinn:20251004T170000
DTSTAMP:20260421T223420
CREATED:20251001T105607Z
LAST-MODIFIED:20251001T110042Z
UID:10039694-1759575600-1759597200@www.kambja.info
SUMMARY:Meepäev
DESCRIPTION:Meepäevale on oodatud head toitu\, kuid eelkõige mett armastavad inimesed. Meepäeval ootab Sind ees palju põnevat. Võtame ette retke mesilasse\, kus tutvume mesilaste elu ja tarudega. Lisaks saame näha ja ka maitsta\, mida põnevat saab meest. \nKaspri talu on tunnustatud Tartumaa Toit\, milles toodetav mesi on iidne ravim juba aastatuhandeid. \nMeepäeval tutvume mesilaste eluga\, külastame mõnda mesitaru ja vaatame kuidas mesilased lähevad talvituma. Kaspri talu peremees Ormi Neevits räägib ja näitab\, milline näeb välja kaasaegne mesila\, lisaks tutvume erinevate põnevate meetoodetega. Lõpetuseks valmistame ühiselt maitsva meekoogi ja naudime seda koos. \nTöötuba sobib kõikidele vanusegruppidele\, kel pole mee vastu allergiat. \nTöötuba kestab u 3 tundi. \nKindlusta oma koht töötoas\, registreeru eelnevalt! \n Registreerun\n 
URL:https://www.kambja.info/syndmus/meepaev/
LOCATION:Kaspri talu\, Kaspri\, Vana-Kuuste\, Kambja vald\, Tartumaa\, 62033
CATEGORIES:Koolitus,PT
ATTACH;FMTTYPE=image/webp:https://www.kambja.info/wp-content/uploads/2025/10/Meepaev.webp
ORGANIZER;CN="Kontaktisik%3A Ragne K%C3%A4rner-Neevits":MAILTO:ragnekn@gmail.com
GEO:58.26979;26.770266
X-APPLE-STRUCTURED-LOCATION;VALUE=URI;X-ADDRESS=Kaspri talu Kaspri Vana-Kuuste Kambja vald Tartumaa 62033;X-APPLE-RADIUS=500;X-TITLE=Kaspri:geo:26.770266,58.26979
END:VEVENT
END:VCALENDAR